BEGIN:VCALENDAR
VERSION:2.0
PRODID:-//Midtown Yard Restaurant - Star Valley, Payson &amp; Rim Country Arizona - ECPv6.13.2.1//NONSGML v1.0//EN
CALSCALE:GREGORIAN
METHOD:PUBLISH
X-WR-CALNAME:Midtown Yard Restaurant - Star Valley, Payson &amp; Rim Country Arizona
X-ORIGINAL-URL:https://johnnysmidtown.com
X-WR-CALDESC:Events for Midtown Yard Restaurant - Star Valley, Payson &amp; Rim Country Arizona
REFRESH-INTERVAL;VALUE=DURATION:PT1H
X-Robots-Tag:noindex
X-PUBLISHED-TTL:PT1H
BEGIN:VTIMEZONE
TZID:America/Phoenix
BEGIN:STANDARD
TZOFFSETFROM:-0700
TZOFFSETTO:-0700
TZNAME:MST
DTSTART:20290101T000000
END:STANDARD
END:VTIMEZONE
BEGIN:VEVENT
DTSTART;TZID=America/Phoenix:20291225T183000
DTEND;TZID=America/Phoenix:20291225T220000
DTSTAMP:20260419T200019
CREATED:20250610T021750Z
LAST-MODIFIED:20250826T034135Z
UID:10001851-1892917800-1892930400@johnnysmidtown.com
SUMMARY:Trivia Night
DESCRIPTION:Join us for an exciting Trivia Night at Johnny’s in Star Valley! Kicking off at 6:30 PM\, come test your knowledge with fun\, challenging questions in a lively atmosphere. Enjoy delicious food\, refreshing drinks\, and the chance to win awesome prizes! Gather your friends and make it a night to remember at Johnny’s.
URL:https://johnnysmidtown.com/event/trivia-night/2029-12-25/
LOCATION:Johnnys\, 3870 AZ-260\, Payson\, AZ 85541\, Payson\, AZ\, 85541\, United States
CATEGORIES:Non-Music Event,Trivin
ATTACH;FMTTYPE=image/png:https://johnnysmidtown.com/wp-content/uploads/2025/06/Johnnys-Trivia.png
END:VEVENT
BEGIN:VEVENT
DTSTART;TZID=America/Phoenix:20291228T190000
DTEND;TZID=America/Phoenix:20291228T220000
DTSTAMP:20260419T200019
CREATED:20250611T045713Z
LAST-MODIFIED:20260331T213151Z
UID:10000595-1893178800-1893189600@johnnysmidtown.com
SUMMARY:Karaoke Party
DESCRIPTION:Kick off your weekend at Johnny’s with our Friday Night Karaoke Party\, hosted by B&B Music! Sing your heart out every Friday night!
URL:https://johnnysmidtown.com/event/karaoke-party-and-live-dj-5/2029-12-28/
LOCATION:Johnnys\, 3870 AZ-260\, Payson\, AZ 85541\, Payson\, AZ\, 85541\, United States
CATEGORIES:Non-Music Event,Trivin
ATTACH;FMTTYPE=image/png:https://johnnysmidtown.com/wp-content/uploads/2025/06/Karaoke-1.png
END:VEVENT
BEGIN:VEVENT
DTSTART;TZID=America/Phoenix:20300101T183000
DTEND;TZID=America/Phoenix:20300101T220000
DTSTAMP:20260419T200019
CREATED:20250610T021750Z
LAST-MODIFIED:20250826T034135Z
UID:10001852-1893522600-1893535200@johnnysmidtown.com
SUMMARY:Trivia Night
DESCRIPTION:Join us for an exciting Trivia Night at Johnny’s in Star Valley! Kicking off at 6:30 PM\, come test your knowledge with fun\, challenging questions in a lively atmosphere. Enjoy delicious food\, refreshing drinks\, and the chance to win awesome prizes! Gather your friends and make it a night to remember at Johnny’s.
URL:https://johnnysmidtown.com/event/trivia-night/2030-01-01/
LOCATION:Johnnys\, 3870 AZ-260\, Payson\, AZ 85541\, Payson\, AZ\, 85541\, United States
CATEGORIES:Non-Music Event,Trivin
ATTACH;FMTTYPE=image/png:https://johnnysmidtown.com/wp-content/uploads/2025/06/Johnnys-Trivia.png
END:VEVENT
BEGIN:VEVENT
DTSTART;TZID=America/Phoenix:20300104T190000
DTEND;TZID=America/Phoenix:20300104T220000
DTSTAMP:20260419T200019
CREATED:20250611T045713Z
LAST-MODIFIED:20260331T213151Z
UID:10000596-1893783600-1893794400@johnnysmidtown.com
SUMMARY:Karaoke Party
DESCRIPTION:Kick off your weekend at Johnny’s with our Friday Night Karaoke Party\, hosted by B&B Music! Sing your heart out every Friday night!
URL:https://johnnysmidtown.com/event/karaoke-party-and-live-dj-5/2030-01-04/
LOCATION:Johnnys\, 3870 AZ-260\, Payson\, AZ 85541\, Payson\, AZ\, 85541\, United States
CATEGORIES:Non-Music Event,Trivin
ATTACH;FMTTYPE=image/png:https://johnnysmidtown.com/wp-content/uploads/2025/06/Karaoke-1.png
END:VEVENT
BEGIN:VEVENT
DTSTART;TZID=America/Phoenix:20300108T183000
DTEND;TZID=America/Phoenix:20300108T220000
DTSTAMP:20260419T200019
CREATED:20250610T021750Z
LAST-MODIFIED:20250826T034135Z
UID:10001853-1894127400-1894140000@johnnysmidtown.com
SUMMARY:Trivia Night
DESCRIPTION:Join us for an exciting Trivia Night at Johnny’s in Star Valley! Kicking off at 6:30 PM\, come test your knowledge with fun\, challenging questions in a lively atmosphere. Enjoy delicious food\, refreshing drinks\, and the chance to win awesome prizes! Gather your friends and make it a night to remember at Johnny’s.
URL:https://johnnysmidtown.com/event/trivia-night/2030-01-08/
LOCATION:Johnnys\, 3870 AZ-260\, Payson\, AZ 85541\, Payson\, AZ\, 85541\, United States
CATEGORIES:Non-Music Event,Trivin
ATTACH;FMTTYPE=image/png:https://johnnysmidtown.com/wp-content/uploads/2025/06/Johnnys-Trivia.png
END:VEVENT
BEGIN:VEVENT
DTSTART;TZID=America/Phoenix:20300111T190000
DTEND;TZID=America/Phoenix:20300111T220000
DTSTAMP:20260419T200019
CREATED:20250611T045713Z
LAST-MODIFIED:20260331T213151Z
UID:10000597-1894388400-1894399200@johnnysmidtown.com
SUMMARY:Karaoke Party
DESCRIPTION:Kick off your weekend at Johnny’s with our Friday Night Karaoke Party\, hosted by B&B Music! Sing your heart out every Friday night!
URL:https://johnnysmidtown.com/event/karaoke-party-and-live-dj-5/2030-01-11/
LOCATION:Johnnys\, 3870 AZ-260\, Payson\, AZ 85541\, Payson\, AZ\, 85541\, United States
CATEGORIES:Non-Music Event,Trivin
ATTACH;FMTTYPE=image/png:https://johnnysmidtown.com/wp-content/uploads/2025/06/Karaoke-1.png
END:VEVENT
BEGIN:VEVENT
DTSTART;TZID=America/Phoenix:20300115T183000
DTEND;TZID=America/Phoenix:20300115T220000
DTSTAMP:20260419T200019
CREATED:20250610T021750Z
LAST-MODIFIED:20250826T034135Z
UID:10001854-1894732200-1894744800@johnnysmidtown.com
SUMMARY:Trivia Night
DESCRIPTION:Join us for an exciting Trivia Night at Johnny’s in Star Valley! Kicking off at 6:30 PM\, come test your knowledge with fun\, challenging questions in a lively atmosphere. Enjoy delicious food\, refreshing drinks\, and the chance to win awesome prizes! Gather your friends and make it a night to remember at Johnny’s.
URL:https://johnnysmidtown.com/event/trivia-night/2030-01-15/
LOCATION:Johnnys\, 3870 AZ-260\, Payson\, AZ 85541\, Payson\, AZ\, 85541\, United States
CATEGORIES:Non-Music Event,Trivin
ATTACH;FMTTYPE=image/png:https://johnnysmidtown.com/wp-content/uploads/2025/06/Johnnys-Trivia.png
END:VEVENT
BEGIN:VEVENT
DTSTART;TZID=America/Phoenix:20300118T190000
DTEND;TZID=America/Phoenix:20300118T220000
DTSTAMP:20260419T200019
CREATED:20250611T045713Z
LAST-MODIFIED:20260331T213151Z
UID:10000598-1894993200-1895004000@johnnysmidtown.com
SUMMARY:Karaoke Party
DESCRIPTION:Kick off your weekend at Johnny’s with our Friday Night Karaoke Party\, hosted by B&B Music! Sing your heart out every Friday night!
URL:https://johnnysmidtown.com/event/karaoke-party-and-live-dj-5/2030-01-18/
LOCATION:Johnnys\, 3870 AZ-260\, Payson\, AZ 85541\, Payson\, AZ\, 85541\, United States
CATEGORIES:Non-Music Event,Trivin
ATTACH;FMTTYPE=image/png:https://johnnysmidtown.com/wp-content/uploads/2025/06/Karaoke-1.png
END:VEVENT
BEGIN:VEVENT
DTSTART;TZID=America/Phoenix:20300122T183000
DTEND;TZID=America/Phoenix:20300122T220000
DTSTAMP:20260419T200019
CREATED:20250610T021750Z
LAST-MODIFIED:20250826T034135Z
UID:10001855-1895337000-1895349600@johnnysmidtown.com
SUMMARY:Trivia Night
DESCRIPTION:Join us for an exciting Trivia Night at Johnny’s in Star Valley! Kicking off at 6:30 PM\, come test your knowledge with fun\, challenging questions in a lively atmosphere. Enjoy delicious food\, refreshing drinks\, and the chance to win awesome prizes! Gather your friends and make it a night to remember at Johnny’s.
URL:https://johnnysmidtown.com/event/trivia-night/2030-01-22/
LOCATION:Johnnys\, 3870 AZ-260\, Payson\, AZ 85541\, Payson\, AZ\, 85541\, United States
CATEGORIES:Non-Music Event,Trivin
ATTACH;FMTTYPE=image/png:https://johnnysmidtown.com/wp-content/uploads/2025/06/Johnnys-Trivia.png
END:VEVENT
BEGIN:VEVENT
DTSTART;TZID=America/Phoenix:20300125T190000
DTEND;TZID=America/Phoenix:20300125T220000
DTSTAMP:20260419T200019
CREATED:20250611T045713Z
LAST-MODIFIED:20260331T213151Z
UID:10000599-1895598000-1895608800@johnnysmidtown.com
SUMMARY:Karaoke Party
DESCRIPTION:Kick off your weekend at Johnny’s with our Friday Night Karaoke Party\, hosted by B&B Music! Sing your heart out every Friday night!
URL:https://johnnysmidtown.com/event/karaoke-party-and-live-dj-5/2030-01-25/
LOCATION:Johnnys\, 3870 AZ-260\, Payson\, AZ 85541\, Payson\, AZ\, 85541\, United States
CATEGORIES:Non-Music Event,Trivin
ATTACH;FMTTYPE=image/png:https://johnnysmidtown.com/wp-content/uploads/2025/06/Karaoke-1.png
END:VEVENT
BEGIN:VEVENT
DTSTART;TZID=America/Phoenix:20300129T183000
DTEND;TZID=America/Phoenix:20300129T220000
DTSTAMP:20260419T200019
CREATED:20250610T021750Z
LAST-MODIFIED:20250826T034135Z
UID:10001856-1895941800-1895954400@johnnysmidtown.com
SUMMARY:Trivia Night
DESCRIPTION:Join us for an exciting Trivia Night at Johnny’s in Star Valley! Kicking off at 6:30 PM\, come test your knowledge with fun\, challenging questions in a lively atmosphere. Enjoy delicious food\, refreshing drinks\, and the chance to win awesome prizes! Gather your friends and make it a night to remember at Johnny’s.
URL:https://johnnysmidtown.com/event/trivia-night/2030-01-29/
LOCATION:Johnnys\, 3870 AZ-260\, Payson\, AZ 85541\, Payson\, AZ\, 85541\, United States
CATEGORIES:Non-Music Event,Trivin
ATTACH;FMTTYPE=image/png:https://johnnysmidtown.com/wp-content/uploads/2025/06/Johnnys-Trivia.png
END:VEVENT
BEGIN:VEVENT
DTSTART;TZID=America/Phoenix:20300201T190000
DTEND;TZID=America/Phoenix:20300201T220000
DTSTAMP:20260419T200019
CREATED:20250611T045713Z
LAST-MODIFIED:20260331T213151Z
UID:10000600-1896202800-1896213600@johnnysmidtown.com
SUMMARY:Karaoke Party
DESCRIPTION:Kick off your weekend at Johnny’s with our Friday Night Karaoke Party\, hosted by B&B Music! Sing your heart out every Friday night!
URL:https://johnnysmidtown.com/event/karaoke-party-and-live-dj-5/2030-02-01/
LOCATION:Johnnys\, 3870 AZ-260\, Payson\, AZ 85541\, Payson\, AZ\, 85541\, United States
CATEGORIES:Non-Music Event,Trivin
ATTACH;FMTTYPE=image/png:https://johnnysmidtown.com/wp-content/uploads/2025/06/Karaoke-1.png
END:VEVENT
BEGIN:VEVENT
DTSTART;TZID=America/Phoenix:20300205T183000
DTEND;TZID=America/Phoenix:20300205T220000
DTSTAMP:20260419T200019
CREATED:20250610T021750Z
LAST-MODIFIED:20250826T034135Z
UID:10001857-1896546600-1896559200@johnnysmidtown.com
SUMMARY:Trivia Night
DESCRIPTION:Join us for an exciting Trivia Night at Johnny’s in Star Valley! Kicking off at 6:30 PM\, come test your knowledge with fun\, challenging questions in a lively atmosphere. Enjoy delicious food\, refreshing drinks\, and the chance to win awesome prizes! Gather your friends and make it a night to remember at Johnny’s.
URL:https://johnnysmidtown.com/event/trivia-night/2030-02-05/
LOCATION:Johnnys\, 3870 AZ-260\, Payson\, AZ 85541\, Payson\, AZ\, 85541\, United States
CATEGORIES:Non-Music Event,Trivin
ATTACH;FMTTYPE=image/png:https://johnnysmidtown.com/wp-content/uploads/2025/06/Johnnys-Trivia.png
END:VEVENT
BEGIN:VEVENT
DTSTART;TZID=America/Phoenix:20300208T190000
DTEND;TZID=America/Phoenix:20300208T220000
DTSTAMP:20260419T200019
CREATED:20250611T045713Z
LAST-MODIFIED:20260331T213151Z
UID:10000601-1896807600-1896818400@johnnysmidtown.com
SUMMARY:Karaoke Party
DESCRIPTION:Kick off your weekend at Johnny’s with our Friday Night Karaoke Party\, hosted by B&B Music! Sing your heart out every Friday night!
URL:https://johnnysmidtown.com/event/karaoke-party-and-live-dj-5/2030-02-08/
LOCATION:Johnnys\, 3870 AZ-260\, Payson\, AZ 85541\, Payson\, AZ\, 85541\, United States
CATEGORIES:Non-Music Event,Trivin
ATTACH;FMTTYPE=image/png:https://johnnysmidtown.com/wp-content/uploads/2025/06/Karaoke-1.png
END:VEVENT
BEGIN:VEVENT
DTSTART;TZID=America/Phoenix:20300212T183000
DTEND;TZID=America/Phoenix:20300212T220000
DTSTAMP:20260419T200019
CREATED:20250610T021750Z
LAST-MODIFIED:20250826T034135Z
UID:10001858-1897151400-1897164000@johnnysmidtown.com
SUMMARY:Trivia Night
DESCRIPTION:Join us for an exciting Trivia Night at Johnny’s in Star Valley! Kicking off at 6:30 PM\, come test your knowledge with fun\, challenging questions in a lively atmosphere. Enjoy delicious food\, refreshing drinks\, and the chance to win awesome prizes! Gather your friends and make it a night to remember at Johnny’s.
URL:https://johnnysmidtown.com/event/trivia-night/2030-02-12/
LOCATION:Johnnys\, 3870 AZ-260\, Payson\, AZ 85541\, Payson\, AZ\, 85541\, United States
CATEGORIES:Non-Music Event,Trivin
ATTACH;FMTTYPE=image/png:https://johnnysmidtown.com/wp-content/uploads/2025/06/Johnnys-Trivia.png
END:VEVENT
BEGIN:VEVENT
DTSTART;TZID=America/Phoenix:20300215T190000
DTEND;TZID=America/Phoenix:20300215T220000
DTSTAMP:20260419T200019
CREATED:20250611T045713Z
LAST-MODIFIED:20260331T213151Z
UID:10000602-1897412400-1897423200@johnnysmidtown.com
SUMMARY:Karaoke Party
DESCRIPTION:Kick off your weekend at Johnny’s with our Friday Night Karaoke Party\, hosted by B&B Music! Sing your heart out every Friday night!
URL:https://johnnysmidtown.com/event/karaoke-party-and-live-dj-5/2030-02-15/
LOCATION:Johnnys\, 3870 AZ-260\, Payson\, AZ 85541\, Payson\, AZ\, 85541\, United States
CATEGORIES:Non-Music Event,Trivin
ATTACH;FMTTYPE=image/png:https://johnnysmidtown.com/wp-content/uploads/2025/06/Karaoke-1.png
END:VEVENT
BEGIN:VEVENT
DTSTART;TZID=America/Phoenix:20300219T183000
DTEND;TZID=America/Phoenix:20300219T220000
DTSTAMP:20260419T200019
CREATED:20250610T021750Z
LAST-MODIFIED:20250826T034135Z
UID:10001859-1897756200-1897768800@johnnysmidtown.com
SUMMARY:Trivia Night
DESCRIPTION:Join us for an exciting Trivia Night at Johnny’s in Star Valley! Kicking off at 6:30 PM\, come test your knowledge with fun\, challenging questions in a lively atmosphere. Enjoy delicious food\, refreshing drinks\, and the chance to win awesome prizes! Gather your friends and make it a night to remember at Johnny’s.
URL:https://johnnysmidtown.com/event/trivia-night/2030-02-19/
LOCATION:Johnnys\, 3870 AZ-260\, Payson\, AZ 85541\, Payson\, AZ\, 85541\, United States
CATEGORIES:Non-Music Event,Trivin
ATTACH;FMTTYPE=image/png:https://johnnysmidtown.com/wp-content/uploads/2025/06/Johnnys-Trivia.png
END:VEVENT
BEGIN:VEVENT
DTSTART;TZID=America/Phoenix:20300222T190000
DTEND;TZID=America/Phoenix:20300222T220000
DTSTAMP:20260419T200019
CREATED:20250611T045713Z
LAST-MODIFIED:20260331T213151Z
UID:10000603-1898017200-1898028000@johnnysmidtown.com
SUMMARY:Karaoke Party
DESCRIPTION:Kick off your weekend at Johnny’s with our Friday Night Karaoke Party\, hosted by B&B Music! Sing your heart out every Friday night!
URL:https://johnnysmidtown.com/event/karaoke-party-and-live-dj-5/2030-02-22/
LOCATION:Johnnys\, 3870 AZ-260\, Payson\, AZ 85541\, Payson\, AZ\, 85541\, United States
CATEGORIES:Non-Music Event,Trivin
ATTACH;FMTTYPE=image/png:https://johnnysmidtown.com/wp-content/uploads/2025/06/Karaoke-1.png
END:VEVENT
BEGIN:VEVENT
DTSTART;TZID=America/Phoenix:20300226T183000
DTEND;TZID=America/Phoenix:20300226T220000
DTSTAMP:20260419T200019
CREATED:20250610T021750Z
LAST-MODIFIED:20250826T034135Z
UID:10001860-1898361000-1898373600@johnnysmidtown.com
SUMMARY:Trivia Night
DESCRIPTION:Join us for an exciting Trivia Night at Johnny’s in Star Valley! Kicking off at 6:30 PM\, come test your knowledge with fun\, challenging questions in a lively atmosphere. Enjoy delicious food\, refreshing drinks\, and the chance to win awesome prizes! Gather your friends and make it a night to remember at Johnny’s.
URL:https://johnnysmidtown.com/event/trivia-night/2030-02-26/
LOCATION:Johnnys\, 3870 AZ-260\, Payson\, AZ 85541\, Payson\, AZ\, 85541\, United States
CATEGORIES:Non-Music Event,Trivin
ATTACH;FMTTYPE=image/png:https://johnnysmidtown.com/wp-content/uploads/2025/06/Johnnys-Trivia.png
END:VEVENT
BEGIN:VEVENT
DTSTART;TZID=America/Phoenix:20300301T190000
DTEND;TZID=America/Phoenix:20300301T220000
DTSTAMP:20260419T200019
CREATED:20250611T045713Z
LAST-MODIFIED:20260331T213151Z
UID:10000604-1898622000-1898632800@johnnysmidtown.com
SUMMARY:Karaoke Party
DESCRIPTION:Kick off your weekend at Johnny’s with our Friday Night Karaoke Party\, hosted by B&B Music! Sing your heart out every Friday night!
URL:https://johnnysmidtown.com/event/karaoke-party-and-live-dj-5/2030-03-01/
LOCATION:Johnnys\, 3870 AZ-260\, Payson\, AZ 85541\, Payson\, AZ\, 85541\, United States
CATEGORIES:Non-Music Event,Trivin
ATTACH;FMTTYPE=image/png:https://johnnysmidtown.com/wp-content/uploads/2025/06/Karaoke-1.png
END:VEVENT
BEGIN:VEVENT
DTSTART;TZID=America/Phoenix:20300305T183000
DTEND;TZID=America/Phoenix:20300305T220000
DTSTAMP:20260419T200020
CREATED:20250610T021750Z
LAST-MODIFIED:20250826T034135Z
UID:10001861-1898965800-1898978400@johnnysmidtown.com
SUMMARY:Trivia Night
DESCRIPTION:Join us for an exciting Trivia Night at Johnny’s in Star Valley! Kicking off at 6:30 PM\, come test your knowledge with fun\, challenging questions in a lively atmosphere. Enjoy delicious food\, refreshing drinks\, and the chance to win awesome prizes! Gather your friends and make it a night to remember at Johnny’s.
URL:https://johnnysmidtown.com/event/trivia-night/2030-03-05/
LOCATION:Johnnys\, 3870 AZ-260\, Payson\, AZ 85541\, Payson\, AZ\, 85541\, United States
CATEGORIES:Non-Music Event,Trivin
ATTACH;FMTTYPE=image/png:https://johnnysmidtown.com/wp-content/uploads/2025/06/Johnnys-Trivia.png
END:VEVENT
BEGIN:VEVENT
DTSTART;TZID=America/Phoenix:20300308T190000
DTEND;TZID=America/Phoenix:20300308T220000
DTSTAMP:20260419T200020
CREATED:20250611T045713Z
LAST-MODIFIED:20260331T213151Z
UID:10000605-1899226800-1899237600@johnnysmidtown.com
SUMMARY:Karaoke Party
DESCRIPTION:Kick off your weekend at Johnny’s with our Friday Night Karaoke Party\, hosted by B&B Music! Sing your heart out every Friday night!
URL:https://johnnysmidtown.com/event/karaoke-party-and-live-dj-5/2030-03-08/
LOCATION:Johnnys\, 3870 AZ-260\, Payson\, AZ 85541\, Payson\, AZ\, 85541\, United States
CATEGORIES:Non-Music Event,Trivin
ATTACH;FMTTYPE=image/png:https://johnnysmidtown.com/wp-content/uploads/2025/06/Karaoke-1.png
END:VEVENT
BEGIN:VEVENT
DTSTART;TZID=America/Phoenix:20300312T183000
DTEND;TZID=America/Phoenix:20300312T220000
DTSTAMP:20260419T200020
CREATED:20250610T021750Z
LAST-MODIFIED:20250826T034135Z
UID:10001862-1899570600-1899583200@johnnysmidtown.com
SUMMARY:Trivia Night
DESCRIPTION:Join us for an exciting Trivia Night at Johnny’s in Star Valley! Kicking off at 6:30 PM\, come test your knowledge with fun\, challenging questions in a lively atmosphere. Enjoy delicious food\, refreshing drinks\, and the chance to win awesome prizes! Gather your friends and make it a night to remember at Johnny’s.
URL:https://johnnysmidtown.com/event/trivia-night/2030-03-12/
LOCATION:Johnnys\, 3870 AZ-260\, Payson\, AZ 85541\, Payson\, AZ\, 85541\, United States
CATEGORIES:Non-Music Event,Trivin
ATTACH;FMTTYPE=image/png:https://johnnysmidtown.com/wp-content/uploads/2025/06/Johnnys-Trivia.png
END:VEVENT
BEGIN:VEVENT
DTSTART;TZID=America/Phoenix:20300315T190000
DTEND;TZID=America/Phoenix:20300315T220000
DTSTAMP:20260419T200020
CREATED:20250611T045713Z
LAST-MODIFIED:20260331T213151Z
UID:10000606-1899831600-1899842400@johnnysmidtown.com
SUMMARY:Karaoke Party
DESCRIPTION:Kick off your weekend at Johnny’s with our Friday Night Karaoke Party\, hosted by B&B Music! Sing your heart out every Friday night!
URL:https://johnnysmidtown.com/event/karaoke-party-and-live-dj-5/2030-03-15/
LOCATION:Johnnys\, 3870 AZ-260\, Payson\, AZ 85541\, Payson\, AZ\, 85541\, United States
CATEGORIES:Non-Music Event,Trivin
ATTACH;FMTTYPE=image/png:https://johnnysmidtown.com/wp-content/uploads/2025/06/Karaoke-1.png
END:VEVENT
BEGIN:VEVENT
DTSTART;TZID=America/Phoenix:20300319T183000
DTEND;TZID=America/Phoenix:20300319T220000
DTSTAMP:20260419T200020
CREATED:20250610T021750Z
LAST-MODIFIED:20250826T034135Z
UID:10001863-1900175400-1900188000@johnnysmidtown.com
SUMMARY:Trivia Night
DESCRIPTION:Join us for an exciting Trivia Night at Johnny’s in Star Valley! Kicking off at 6:30 PM\, come test your knowledge with fun\, challenging questions in a lively atmosphere. Enjoy delicious food\, refreshing drinks\, and the chance to win awesome prizes! Gather your friends and make it a night to remember at Johnny’s.
URL:https://johnnysmidtown.com/event/trivia-night/2030-03-19/
LOCATION:Johnnys\, 3870 AZ-260\, Payson\, AZ 85541\, Payson\, AZ\, 85541\, United States
CATEGORIES:Non-Music Event,Trivin
ATTACH;FMTTYPE=image/png:https://johnnysmidtown.com/wp-content/uploads/2025/06/Johnnys-Trivia.png
END:VEVENT
BEGIN:VEVENT
DTSTART;TZID=America/Phoenix:20300322T190000
DTEND;TZID=America/Phoenix:20300322T220000
DTSTAMP:20260419T200020
CREATED:20250611T045713Z
LAST-MODIFIED:20260331T213151Z
UID:10000607-1900436400-1900447200@johnnysmidtown.com
SUMMARY:Karaoke Party
DESCRIPTION:Kick off your weekend at Johnny’s with our Friday Night Karaoke Party\, hosted by B&B Music! Sing your heart out every Friday night!
URL:https://johnnysmidtown.com/event/karaoke-party-and-live-dj-5/2030-03-22/
LOCATION:Johnnys\, 3870 AZ-260\, Payson\, AZ 85541\, Payson\, AZ\, 85541\, United States
CATEGORIES:Non-Music Event,Trivin
ATTACH;FMTTYPE=image/png:https://johnnysmidtown.com/wp-content/uploads/2025/06/Karaoke-1.png
END:VEVENT
BEGIN:VEVENT
DTSTART;TZID=America/Phoenix:20300326T183000
DTEND;TZID=America/Phoenix:20300326T220000
DTSTAMP:20260419T200020
CREATED:20250610T021750Z
LAST-MODIFIED:20250826T034135Z
UID:10001864-1900780200-1900792800@johnnysmidtown.com
SUMMARY:Trivia Night
DESCRIPTION:Join us for an exciting Trivia Night at Johnny’s in Star Valley! Kicking off at 6:30 PM\, come test your knowledge with fun\, challenging questions in a lively atmosphere. Enjoy delicious food\, refreshing drinks\, and the chance to win awesome prizes! Gather your friends and make it a night to remember at Johnny’s.
URL:https://johnnysmidtown.com/event/trivia-night/2030-03-26/
LOCATION:Johnnys\, 3870 AZ-260\, Payson\, AZ 85541\, Payson\, AZ\, 85541\, United States
CATEGORIES:Non-Music Event,Trivin
ATTACH;FMTTYPE=image/png:https://johnnysmidtown.com/wp-content/uploads/2025/06/Johnnys-Trivia.png
END:VEVENT
BEGIN:VEVENT
DTSTART;TZID=America/Phoenix:20300329T190000
DTEND;TZID=America/Phoenix:20300329T220000
DTSTAMP:20260419T200020
CREATED:20250611T045713Z
LAST-MODIFIED:20260331T213151Z
UID:10000608-1901041200-1901052000@johnnysmidtown.com
SUMMARY:Karaoke Party
DESCRIPTION:Kick off your weekend at Johnny’s with our Friday Night Karaoke Party\, hosted by B&B Music! Sing your heart out every Friday night!
URL:https://johnnysmidtown.com/event/karaoke-party-and-live-dj-5/2030-03-29/
LOCATION:Johnnys\, 3870 AZ-260\, Payson\, AZ 85541\, Payson\, AZ\, 85541\, United States
CATEGORIES:Non-Music Event,Trivin
ATTACH;FMTTYPE=image/png:https://johnnysmidtown.com/wp-content/uploads/2025/06/Karaoke-1.png
END:VEVENT
BEGIN:VEVENT
DTSTART;TZID=America/Phoenix:20300402T183000
DTEND;TZID=America/Phoenix:20300402T220000
DTSTAMP:20260419T200020
CREATED:20250610T021750Z
LAST-MODIFIED:20250826T034135Z
UID:10001865-1901385000-1901397600@johnnysmidtown.com
SUMMARY:Trivia Night
DESCRIPTION:Join us for an exciting Trivia Night at Johnny’s in Star Valley! Kicking off at 6:30 PM\, come test your knowledge with fun\, challenging questions in a lively atmosphere. Enjoy delicious food\, refreshing drinks\, and the chance to win awesome prizes! Gather your friends and make it a night to remember at Johnny’s.
URL:https://johnnysmidtown.com/event/trivia-night/2030-04-02/
LOCATION:Johnnys\, 3870 AZ-260\, Payson\, AZ 85541\, Payson\, AZ\, 85541\, United States
CATEGORIES:Non-Music Event,Trivin
ATTACH;FMTTYPE=image/png:https://johnnysmidtown.com/wp-content/uploads/2025/06/Johnnys-Trivia.png
END:VEVENT
BEGIN:VEVENT
DTSTART;TZID=America/Phoenix:20300405T190000
DTEND;TZID=America/Phoenix:20300405T220000
DTSTAMP:20260419T200020
CREATED:20250611T045713Z
LAST-MODIFIED:20260331T213151Z
UID:10000609-1901646000-1901656800@johnnysmidtown.com
SUMMARY:Karaoke Party
DESCRIPTION:Kick off your weekend at Johnny’s with our Friday Night Karaoke Party\, hosted by B&B Music! Sing your heart out every Friday night!
URL:https://johnnysmidtown.com/event/karaoke-party-and-live-dj-5/2030-04-05/
LOCATION:Johnnys\, 3870 AZ-260\, Payson\, AZ 85541\, Payson\, AZ\, 85541\, United States
CATEGORIES:Non-Music Event,Trivin
ATTACH;FMTTYPE=image/png:https://johnnysmidtown.com/wp-content/uploads/2025/06/Karaoke-1.png
END:VEVENT
END:VCALENDAR