BEGIN:VCALENDAR
VERSION:2.0
PRODID:-//Midtown Yard Restaurant - Star Valley, Payson &amp; Rim Country Arizona - ECPv6.13.2.1//NONSGML v1.0//EN
CALSCALE:GREGORIAN
METHOD:PUBLISH
X-ORIGINAL-URL:https://johnnysmidtown.com
X-WR-CALDESC:Events for Midtown Yard Restaurant - Star Valley, Payson &amp; Rim Country Arizona
REFRESH-INTERVAL;VALUE=DURATION:PT1H
X-Robots-Tag:noindex
X-PUBLISHED-TTL:PT1H
BEGIN:VTIMEZONE
TZID:America/Phoenix
BEGIN:STANDARD
TZOFFSETFROM:-0700
TZOFFSETTO:-0700
TZNAME:MST
DTSTART:20290101T000000
END:STANDARD
END:VTIMEZONE
BEGIN:VEVENT
DTSTART;TZID=America/Phoenix:20290529T183000
DTEND;TZID=America/Phoenix:20290529T220000
DTSTAMP:20260419T132617
CREATED:20250610T021750Z
LAST-MODIFIED:20250826T034135Z
UID:10001821-1874773800-1874786400@johnnysmidtown.com
SUMMARY:Trivia Night
DESCRIPTION:Join us for an exciting Trivia Night at Johnny’s in Star Valley! Kicking off at 6:30 PM\, come test your knowledge with fun\, challenging questions in a lively atmosphere. Enjoy delicious food\, refreshing drinks\, and the chance to win awesome prizes! Gather your friends and make it a night to remember at Johnny’s.
URL:https://johnnysmidtown.com/event/trivia-night/2029-05-29/
LOCATION:Johnnys\, 3870 AZ-260\, Payson\, AZ 85541\, Payson\, AZ\, 85541\, United States
CATEGORIES:Non-Music Event,Trivin
ATTACH;FMTTYPE=image/png:https://johnnysmidtown.com/wp-content/uploads/2025/06/Johnnys-Trivia.png
END:VEVENT
BEGIN:VEVENT
DTSTART;TZID=America/Phoenix:20290601T190000
DTEND;TZID=America/Phoenix:20290601T220000
DTSTAMP:20260419T132617
CREATED:20250611T045713Z
LAST-MODIFIED:20260331T213151Z
UID:10000565-1875034800-1875045600@johnnysmidtown.com
SUMMARY:Karaoke Party
DESCRIPTION:Kick off your weekend at Johnny’s with our Friday Night Karaoke Party\, hosted by B&B Music! Sing your heart out every Friday night!
URL:https://johnnysmidtown.com/event/karaoke-party-and-live-dj-5/2029-06-01/
LOCATION:Johnnys\, 3870 AZ-260\, Payson\, AZ 85541\, Payson\, AZ\, 85541\, United States
CATEGORIES:Non-Music Event,Trivin
ATTACH;FMTTYPE=image/png:https://johnnysmidtown.com/wp-content/uploads/2025/06/Karaoke-1.png
END:VEVENT
BEGIN:VEVENT
DTSTART;TZID=America/Phoenix:20290605T183000
DTEND;TZID=America/Phoenix:20290605T220000
DTSTAMP:20260419T132617
CREATED:20250610T021750Z
LAST-MODIFIED:20250826T034135Z
UID:10001822-1875378600-1875391200@johnnysmidtown.com
SUMMARY:Trivia Night
DESCRIPTION:Join us for an exciting Trivia Night at Johnny’s in Star Valley! Kicking off at 6:30 PM\, come test your knowledge with fun\, challenging questions in a lively atmosphere. Enjoy delicious food\, refreshing drinks\, and the chance to win awesome prizes! Gather your friends and make it a night to remember at Johnny’s.
URL:https://johnnysmidtown.com/event/trivia-night/2029-06-05/
LOCATION:Johnnys\, 3870 AZ-260\, Payson\, AZ 85541\, Payson\, AZ\, 85541\, United States
CATEGORIES:Non-Music Event,Trivin
ATTACH;FMTTYPE=image/png:https://johnnysmidtown.com/wp-content/uploads/2025/06/Johnnys-Trivia.png
END:VEVENT
BEGIN:VEVENT
DTSTART;TZID=America/Phoenix:20290608T190000
DTEND;TZID=America/Phoenix:20290608T220000
DTSTAMP:20260419T132617
CREATED:20250611T045713Z
LAST-MODIFIED:20260331T213151Z
UID:10000566-1875639600-1875650400@johnnysmidtown.com
SUMMARY:Karaoke Party
DESCRIPTION:Kick off your weekend at Johnny’s with our Friday Night Karaoke Party\, hosted by B&B Music! Sing your heart out every Friday night!
URL:https://johnnysmidtown.com/event/karaoke-party-and-live-dj-5/2029-06-08/
LOCATION:Johnnys\, 3870 AZ-260\, Payson\, AZ 85541\, Payson\, AZ\, 85541\, United States
CATEGORIES:Non-Music Event,Trivin
ATTACH;FMTTYPE=image/png:https://johnnysmidtown.com/wp-content/uploads/2025/06/Karaoke-1.png
END:VEVENT
BEGIN:VEVENT
DTSTART;TZID=America/Phoenix:20290612T183000
DTEND;TZID=America/Phoenix:20290612T220000
DTSTAMP:20260419T132617
CREATED:20250610T021750Z
LAST-MODIFIED:20250826T034135Z
UID:10001823-1875983400-1875996000@johnnysmidtown.com
SUMMARY:Trivia Night
DESCRIPTION:Join us for an exciting Trivia Night at Johnny’s in Star Valley! Kicking off at 6:30 PM\, come test your knowledge with fun\, challenging questions in a lively atmosphere. Enjoy delicious food\, refreshing drinks\, and the chance to win awesome prizes! Gather your friends and make it a night to remember at Johnny’s.
URL:https://johnnysmidtown.com/event/trivia-night/2029-06-12/
LOCATION:Johnnys\, 3870 AZ-260\, Payson\, AZ 85541\, Payson\, AZ\, 85541\, United States
CATEGORIES:Non-Music Event,Trivin
ATTACH;FMTTYPE=image/png:https://johnnysmidtown.com/wp-content/uploads/2025/06/Johnnys-Trivia.png
END:VEVENT
BEGIN:VEVENT
DTSTART;TZID=America/Phoenix:20290615T190000
DTEND;TZID=America/Phoenix:20290615T220000
DTSTAMP:20260419T132617
CREATED:20250611T045713Z
LAST-MODIFIED:20260331T213151Z
UID:10000567-1876244400-1876255200@johnnysmidtown.com
SUMMARY:Karaoke Party
DESCRIPTION:Kick off your weekend at Johnny’s with our Friday Night Karaoke Party\, hosted by B&B Music! Sing your heart out every Friday night!
URL:https://johnnysmidtown.com/event/karaoke-party-and-live-dj-5/2029-06-15/
LOCATION:Johnnys\, 3870 AZ-260\, Payson\, AZ 85541\, Payson\, AZ\, 85541\, United States
CATEGORIES:Non-Music Event,Trivin
ATTACH;FMTTYPE=image/png:https://johnnysmidtown.com/wp-content/uploads/2025/06/Karaoke-1.png
END:VEVENT
BEGIN:VEVENT
DTSTART;TZID=America/Phoenix:20290619T183000
DTEND;TZID=America/Phoenix:20290619T220000
DTSTAMP:20260419T132617
CREATED:20250610T021750Z
LAST-MODIFIED:20250826T034135Z
UID:10001824-1876588200-1876600800@johnnysmidtown.com
SUMMARY:Trivia Night
DESCRIPTION:Join us for an exciting Trivia Night at Johnny’s in Star Valley! Kicking off at 6:30 PM\, come test your knowledge with fun\, challenging questions in a lively atmosphere. Enjoy delicious food\, refreshing drinks\, and the chance to win awesome prizes! Gather your friends and make it a night to remember at Johnny’s.
URL:https://johnnysmidtown.com/event/trivia-night/2029-06-19/
LOCATION:Johnnys\, 3870 AZ-260\, Payson\, AZ 85541\, Payson\, AZ\, 85541\, United States
CATEGORIES:Non-Music Event,Trivin
ATTACH;FMTTYPE=image/png:https://johnnysmidtown.com/wp-content/uploads/2025/06/Johnnys-Trivia.png
END:VEVENT
BEGIN:VEVENT
DTSTART;TZID=America/Phoenix:20290622T190000
DTEND;TZID=America/Phoenix:20290622T220000
DTSTAMP:20260419T132617
CREATED:20250611T045713Z
LAST-MODIFIED:20260331T213151Z
UID:10000568-1876849200-1876860000@johnnysmidtown.com
SUMMARY:Karaoke Party
DESCRIPTION:Kick off your weekend at Johnny’s with our Friday Night Karaoke Party\, hosted by B&B Music! Sing your heart out every Friday night!
URL:https://johnnysmidtown.com/event/karaoke-party-and-live-dj-5/2029-06-22/
LOCATION:Johnnys\, 3870 AZ-260\, Payson\, AZ 85541\, Payson\, AZ\, 85541\, United States
CATEGORIES:Non-Music Event,Trivin
ATTACH;FMTTYPE=image/png:https://johnnysmidtown.com/wp-content/uploads/2025/06/Karaoke-1.png
END:VEVENT
BEGIN:VEVENT
DTSTART;TZID=America/Phoenix:20290626T183000
DTEND;TZID=America/Phoenix:20290626T220000
DTSTAMP:20260419T132617
CREATED:20250610T021750Z
LAST-MODIFIED:20250826T034135Z
UID:10001825-1877193000-1877205600@johnnysmidtown.com
SUMMARY:Trivia Night
DESCRIPTION:Join us for an exciting Trivia Night at Johnny’s in Star Valley! Kicking off at 6:30 PM\, come test your knowledge with fun\, challenging questions in a lively atmosphere. Enjoy delicious food\, refreshing drinks\, and the chance to win awesome prizes! Gather your friends and make it a night to remember at Johnny’s.
URL:https://johnnysmidtown.com/event/trivia-night/2029-06-26/
LOCATION:Johnnys\, 3870 AZ-260\, Payson\, AZ 85541\, Payson\, AZ\, 85541\, United States
CATEGORIES:Non-Music Event,Trivin
ATTACH;FMTTYPE=image/png:https://johnnysmidtown.com/wp-content/uploads/2025/06/Johnnys-Trivia.png
END:VEVENT
BEGIN:VEVENT
DTSTART;TZID=America/Phoenix:20290629T190000
DTEND;TZID=America/Phoenix:20290629T220000
DTSTAMP:20260419T132617
CREATED:20250611T045713Z
LAST-MODIFIED:20260331T213151Z
UID:10000569-1877454000-1877464800@johnnysmidtown.com
SUMMARY:Karaoke Party
DESCRIPTION:Kick off your weekend at Johnny’s with our Friday Night Karaoke Party\, hosted by B&B Music! Sing your heart out every Friday night!
URL:https://johnnysmidtown.com/event/karaoke-party-and-live-dj-5/2029-06-29/
LOCATION:Johnnys\, 3870 AZ-260\, Payson\, AZ 85541\, Payson\, AZ\, 85541\, United States
CATEGORIES:Non-Music Event,Trivin
ATTACH;FMTTYPE=image/png:https://johnnysmidtown.com/wp-content/uploads/2025/06/Karaoke-1.png
END:VEVENT
BEGIN:VEVENT
DTSTART;TZID=America/Phoenix:20290703T183000
DTEND;TZID=America/Phoenix:20290703T220000
DTSTAMP:20260419T132617
CREATED:20250610T021750Z
LAST-MODIFIED:20250826T034135Z
UID:10001826-1877797800-1877810400@johnnysmidtown.com
SUMMARY:Trivia Night
DESCRIPTION:Join us for an exciting Trivia Night at Johnny’s in Star Valley! Kicking off at 6:30 PM\, come test your knowledge with fun\, challenging questions in a lively atmosphere. Enjoy delicious food\, refreshing drinks\, and the chance to win awesome prizes! Gather your friends and make it a night to remember at Johnny’s.
URL:https://johnnysmidtown.com/event/trivia-night/2029-07-03/
LOCATION:Johnnys\, 3870 AZ-260\, Payson\, AZ 85541\, Payson\, AZ\, 85541\, United States
CATEGORIES:Non-Music Event,Trivin
ATTACH;FMTTYPE=image/png:https://johnnysmidtown.com/wp-content/uploads/2025/06/Johnnys-Trivia.png
END:VEVENT
BEGIN:VEVENT
DTSTART;TZID=America/Phoenix:20290706T190000
DTEND;TZID=America/Phoenix:20290706T220000
DTSTAMP:20260419T132617
CREATED:20250611T045713Z
LAST-MODIFIED:20260331T213151Z
UID:10000570-1878058800-1878069600@johnnysmidtown.com
SUMMARY:Karaoke Party
DESCRIPTION:Kick off your weekend at Johnny’s with our Friday Night Karaoke Party\, hosted by B&B Music! Sing your heart out every Friday night!
URL:https://johnnysmidtown.com/event/karaoke-party-and-live-dj-5/2029-07-06/
LOCATION:Johnnys\, 3870 AZ-260\, Payson\, AZ 85541\, Payson\, AZ\, 85541\, United States
CATEGORIES:Non-Music Event,Trivin
ATTACH;FMTTYPE=image/png:https://johnnysmidtown.com/wp-content/uploads/2025/06/Karaoke-1.png
END:VEVENT
BEGIN:VEVENT
DTSTART;TZID=America/Phoenix:20290710T183000
DTEND;TZID=America/Phoenix:20290710T220000
DTSTAMP:20260419T132617
CREATED:20250610T021750Z
LAST-MODIFIED:20250826T034135Z
UID:10001827-1878402600-1878415200@johnnysmidtown.com
SUMMARY:Trivia Night
DESCRIPTION:Join us for an exciting Trivia Night at Johnny’s in Star Valley! Kicking off at 6:30 PM\, come test your knowledge with fun\, challenging questions in a lively atmosphere. Enjoy delicious food\, refreshing drinks\, and the chance to win awesome prizes! Gather your friends and make it a night to remember at Johnny’s.
URL:https://johnnysmidtown.com/event/trivia-night/2029-07-10/
LOCATION:Johnnys\, 3870 AZ-260\, Payson\, AZ 85541\, Payson\, AZ\, 85541\, United States
CATEGORIES:Non-Music Event,Trivin
ATTACH;FMTTYPE=image/png:https://johnnysmidtown.com/wp-content/uploads/2025/06/Johnnys-Trivia.png
END:VEVENT
BEGIN:VEVENT
DTSTART;TZID=America/Phoenix:20290713T190000
DTEND;TZID=America/Phoenix:20290713T220000
DTSTAMP:20260419T132617
CREATED:20250611T045713Z
LAST-MODIFIED:20260331T213151Z
UID:10000571-1878663600-1878674400@johnnysmidtown.com
SUMMARY:Karaoke Party
DESCRIPTION:Kick off your weekend at Johnny’s with our Friday Night Karaoke Party\, hosted by B&B Music! Sing your heart out every Friday night!
URL:https://johnnysmidtown.com/event/karaoke-party-and-live-dj-5/2029-07-13/
LOCATION:Johnnys\, 3870 AZ-260\, Payson\, AZ 85541\, Payson\, AZ\, 85541\, United States
CATEGORIES:Non-Music Event,Trivin
ATTACH;FMTTYPE=image/png:https://johnnysmidtown.com/wp-content/uploads/2025/06/Karaoke-1.png
END:VEVENT
BEGIN:VEVENT
DTSTART;TZID=America/Phoenix:20290717T183000
DTEND;TZID=America/Phoenix:20290717T220000
DTSTAMP:20260419T132617
CREATED:20250610T021750Z
LAST-MODIFIED:20250826T034135Z
UID:10001828-1879007400-1879020000@johnnysmidtown.com
SUMMARY:Trivia Night
DESCRIPTION:Join us for an exciting Trivia Night at Johnny’s in Star Valley! Kicking off at 6:30 PM\, come test your knowledge with fun\, challenging questions in a lively atmosphere. Enjoy delicious food\, refreshing drinks\, and the chance to win awesome prizes! Gather your friends and make it a night to remember at Johnny’s.
URL:https://johnnysmidtown.com/event/trivia-night/2029-07-17/
LOCATION:Johnnys\, 3870 AZ-260\, Payson\, AZ 85541\, Payson\, AZ\, 85541\, United States
CATEGORIES:Non-Music Event,Trivin
ATTACH;FMTTYPE=image/png:https://johnnysmidtown.com/wp-content/uploads/2025/06/Johnnys-Trivia.png
END:VEVENT
BEGIN:VEVENT
DTSTART;TZID=America/Phoenix:20290720T190000
DTEND;TZID=America/Phoenix:20290720T220000
DTSTAMP:20260419T132617
CREATED:20250611T045713Z
LAST-MODIFIED:20260331T213151Z
UID:10000572-1879268400-1879279200@johnnysmidtown.com
SUMMARY:Karaoke Party
DESCRIPTION:Kick off your weekend at Johnny’s with our Friday Night Karaoke Party\, hosted by B&B Music! Sing your heart out every Friday night!
URL:https://johnnysmidtown.com/event/karaoke-party-and-live-dj-5/2029-07-20/
LOCATION:Johnnys\, 3870 AZ-260\, Payson\, AZ 85541\, Payson\, AZ\, 85541\, United States
CATEGORIES:Non-Music Event,Trivin
ATTACH;FMTTYPE=image/png:https://johnnysmidtown.com/wp-content/uploads/2025/06/Karaoke-1.png
END:VEVENT
BEGIN:VEVENT
DTSTART;TZID=America/Phoenix:20290724T183000
DTEND;TZID=America/Phoenix:20290724T220000
DTSTAMP:20260419T132617
CREATED:20250610T021750Z
LAST-MODIFIED:20250826T034135Z
UID:10001829-1879612200-1879624800@johnnysmidtown.com
SUMMARY:Trivia Night
DESCRIPTION:Join us for an exciting Trivia Night at Johnny’s in Star Valley! Kicking off at 6:30 PM\, come test your knowledge with fun\, challenging questions in a lively atmosphere. Enjoy delicious food\, refreshing drinks\, and the chance to win awesome prizes! Gather your friends and make it a night to remember at Johnny’s.
URL:https://johnnysmidtown.com/event/trivia-night/2029-07-24/
LOCATION:Johnnys\, 3870 AZ-260\, Payson\, AZ 85541\, Payson\, AZ\, 85541\, United States
CATEGORIES:Non-Music Event,Trivin
ATTACH;FMTTYPE=image/png:https://johnnysmidtown.com/wp-content/uploads/2025/06/Johnnys-Trivia.png
END:VEVENT
BEGIN:VEVENT
DTSTART;TZID=America/Phoenix:20290727T190000
DTEND;TZID=America/Phoenix:20290727T220000
DTSTAMP:20260419T132617
CREATED:20250611T045713Z
LAST-MODIFIED:20260331T213151Z
UID:10000573-1879873200-1879884000@johnnysmidtown.com
SUMMARY:Karaoke Party
DESCRIPTION:Kick off your weekend at Johnny’s with our Friday Night Karaoke Party\, hosted by B&B Music! Sing your heart out every Friday night!
URL:https://johnnysmidtown.com/event/karaoke-party-and-live-dj-5/2029-07-27/
LOCATION:Johnnys\, 3870 AZ-260\, Payson\, AZ 85541\, Payson\, AZ\, 85541\, United States
CATEGORIES:Non-Music Event,Trivin
ATTACH;FMTTYPE=image/png:https://johnnysmidtown.com/wp-content/uploads/2025/06/Karaoke-1.png
END:VEVENT
BEGIN:VEVENT
DTSTART;TZID=America/Phoenix:20290731T183000
DTEND;TZID=America/Phoenix:20290731T220000
DTSTAMP:20260419T132617
CREATED:20250610T021750Z
LAST-MODIFIED:20250826T034135Z
UID:10001830-1880217000-1880229600@johnnysmidtown.com
SUMMARY:Trivia Night
DESCRIPTION:Join us for an exciting Trivia Night at Johnny’s in Star Valley! Kicking off at 6:30 PM\, come test your knowledge with fun\, challenging questions in a lively atmosphere. Enjoy delicious food\, refreshing drinks\, and the chance to win awesome prizes! Gather your friends and make it a night to remember at Johnny’s.
URL:https://johnnysmidtown.com/event/trivia-night/2029-07-31/
LOCATION:Johnnys\, 3870 AZ-260\, Payson\, AZ 85541\, Payson\, AZ\, 85541\, United States
CATEGORIES:Non-Music Event,Trivin
ATTACH;FMTTYPE=image/png:https://johnnysmidtown.com/wp-content/uploads/2025/06/Johnnys-Trivia.png
END:VEVENT
BEGIN:VEVENT
DTSTART;TZID=America/Phoenix:20290803T190000
DTEND;TZID=America/Phoenix:20290803T220000
DTSTAMP:20260419T132617
CREATED:20250611T045713Z
LAST-MODIFIED:20260331T213151Z
UID:10000574-1880478000-1880488800@johnnysmidtown.com
SUMMARY:Karaoke Party
DESCRIPTION:Kick off your weekend at Johnny’s with our Friday Night Karaoke Party\, hosted by B&B Music! Sing your heart out every Friday night!
URL:https://johnnysmidtown.com/event/karaoke-party-and-live-dj-5/2029-08-03/
LOCATION:Johnnys\, 3870 AZ-260\, Payson\, AZ 85541\, Payson\, AZ\, 85541\, United States
CATEGORIES:Non-Music Event,Trivin
ATTACH;FMTTYPE=image/png:https://johnnysmidtown.com/wp-content/uploads/2025/06/Karaoke-1.png
END:VEVENT
BEGIN:VEVENT
DTSTART;TZID=America/Phoenix:20290807T183000
DTEND;TZID=America/Phoenix:20290807T220000
DTSTAMP:20260419T132617
CREATED:20250610T021750Z
LAST-MODIFIED:20250826T034135Z
UID:10001831-1880821800-1880834400@johnnysmidtown.com
SUMMARY:Trivia Night
DESCRIPTION:Join us for an exciting Trivia Night at Johnny’s in Star Valley! Kicking off at 6:30 PM\, come test your knowledge with fun\, challenging questions in a lively atmosphere. Enjoy delicious food\, refreshing drinks\, and the chance to win awesome prizes! Gather your friends and make it a night to remember at Johnny’s.
URL:https://johnnysmidtown.com/event/trivia-night/2029-08-07/
LOCATION:Johnnys\, 3870 AZ-260\, Payson\, AZ 85541\, Payson\, AZ\, 85541\, United States
CATEGORIES:Non-Music Event,Trivin
ATTACH;FMTTYPE=image/png:https://johnnysmidtown.com/wp-content/uploads/2025/06/Johnnys-Trivia.png
END:VEVENT
BEGIN:VEVENT
DTSTART;TZID=America/Phoenix:20290810T190000
DTEND;TZID=America/Phoenix:20290810T220000
DTSTAMP:20260419T132617
CREATED:20250611T045713Z
LAST-MODIFIED:20260331T213151Z
UID:10000575-1881082800-1881093600@johnnysmidtown.com
SUMMARY:Karaoke Party
DESCRIPTION:Kick off your weekend at Johnny’s with our Friday Night Karaoke Party\, hosted by B&B Music! Sing your heart out every Friday night!
URL:https://johnnysmidtown.com/event/karaoke-party-and-live-dj-5/2029-08-10/
LOCATION:Johnnys\, 3870 AZ-260\, Payson\, AZ 85541\, Payson\, AZ\, 85541\, United States
CATEGORIES:Non-Music Event,Trivin
ATTACH;FMTTYPE=image/png:https://johnnysmidtown.com/wp-content/uploads/2025/06/Karaoke-1.png
END:VEVENT
BEGIN:VEVENT
DTSTART;TZID=America/Phoenix:20290814T183000
DTEND;TZID=America/Phoenix:20290814T220000
DTSTAMP:20260419T132617
CREATED:20250610T021750Z
LAST-MODIFIED:20250826T034135Z
UID:10001832-1881426600-1881439200@johnnysmidtown.com
SUMMARY:Trivia Night
DESCRIPTION:Join us for an exciting Trivia Night at Johnny’s in Star Valley! Kicking off at 6:30 PM\, come test your knowledge with fun\, challenging questions in a lively atmosphere. Enjoy delicious food\, refreshing drinks\, and the chance to win awesome prizes! Gather your friends and make it a night to remember at Johnny’s.
URL:https://johnnysmidtown.com/event/trivia-night/2029-08-14/
LOCATION:Johnnys\, 3870 AZ-260\, Payson\, AZ 85541\, Payson\, AZ\, 85541\, United States
CATEGORIES:Non-Music Event,Trivin
ATTACH;FMTTYPE=image/png:https://johnnysmidtown.com/wp-content/uploads/2025/06/Johnnys-Trivia.png
END:VEVENT
BEGIN:VEVENT
DTSTART;TZID=America/Phoenix:20290817T190000
DTEND;TZID=America/Phoenix:20290817T220000
DTSTAMP:20260419T132617
CREATED:20250611T045713Z
LAST-MODIFIED:20260331T213151Z
UID:10000576-1881687600-1881698400@johnnysmidtown.com
SUMMARY:Karaoke Party
DESCRIPTION:Kick off your weekend at Johnny’s with our Friday Night Karaoke Party\, hosted by B&B Music! Sing your heart out every Friday night!
URL:https://johnnysmidtown.com/event/karaoke-party-and-live-dj-5/2029-08-17/
LOCATION:Johnnys\, 3870 AZ-260\, Payson\, AZ 85541\, Payson\, AZ\, 85541\, United States
CATEGORIES:Non-Music Event,Trivin
ATTACH;FMTTYPE=image/png:https://johnnysmidtown.com/wp-content/uploads/2025/06/Karaoke-1.png
END:VEVENT
BEGIN:VEVENT
DTSTART;TZID=America/Phoenix:20290821T183000
DTEND;TZID=America/Phoenix:20290821T220000
DTSTAMP:20260419T132617
CREATED:20250610T021750Z
LAST-MODIFIED:20250826T034135Z
UID:10001833-1882031400-1882044000@johnnysmidtown.com
SUMMARY:Trivia Night
DESCRIPTION:Join us for an exciting Trivia Night at Johnny’s in Star Valley! Kicking off at 6:30 PM\, come test your knowledge with fun\, challenging questions in a lively atmosphere. Enjoy delicious food\, refreshing drinks\, and the chance to win awesome prizes! Gather your friends and make it a night to remember at Johnny’s.
URL:https://johnnysmidtown.com/event/trivia-night/2029-08-21/
LOCATION:Johnnys\, 3870 AZ-260\, Payson\, AZ 85541\, Payson\, AZ\, 85541\, United States
CATEGORIES:Non-Music Event,Trivin
ATTACH;FMTTYPE=image/png:https://johnnysmidtown.com/wp-content/uploads/2025/06/Johnnys-Trivia.png
END:VEVENT
BEGIN:VEVENT
DTSTART;TZID=America/Phoenix:20290824T190000
DTEND;TZID=America/Phoenix:20290824T220000
DTSTAMP:20260419T132617
CREATED:20250611T045713Z
LAST-MODIFIED:20260331T213151Z
UID:10000577-1882292400-1882303200@johnnysmidtown.com
SUMMARY:Karaoke Party
DESCRIPTION:Kick off your weekend at Johnny’s with our Friday Night Karaoke Party\, hosted by B&B Music! Sing your heart out every Friday night!
URL:https://johnnysmidtown.com/event/karaoke-party-and-live-dj-5/2029-08-24/
LOCATION:Johnnys\, 3870 AZ-260\, Payson\, AZ 85541\, Payson\, AZ\, 85541\, United States
CATEGORIES:Non-Music Event,Trivin
ATTACH;FMTTYPE=image/png:https://johnnysmidtown.com/wp-content/uploads/2025/06/Karaoke-1.png
END:VEVENT
BEGIN:VEVENT
DTSTART;TZID=America/Phoenix:20290828T183000
DTEND;TZID=America/Phoenix:20290828T220000
DTSTAMP:20260419T132617
CREATED:20250610T021750Z
LAST-MODIFIED:20250826T034135Z
UID:10001834-1882636200-1882648800@johnnysmidtown.com
SUMMARY:Trivia Night
DESCRIPTION:Join us for an exciting Trivia Night at Johnny’s in Star Valley! Kicking off at 6:30 PM\, come test your knowledge with fun\, challenging questions in a lively atmosphere. Enjoy delicious food\, refreshing drinks\, and the chance to win awesome prizes! Gather your friends and make it a night to remember at Johnny’s.
URL:https://johnnysmidtown.com/event/trivia-night/2029-08-28/
LOCATION:Johnnys\, 3870 AZ-260\, Payson\, AZ 85541\, Payson\, AZ\, 85541\, United States
CATEGORIES:Non-Music Event,Trivin
ATTACH;FMTTYPE=image/png:https://johnnysmidtown.com/wp-content/uploads/2025/06/Johnnys-Trivia.png
END:VEVENT
BEGIN:VEVENT
DTSTART;TZID=America/Phoenix:20290831T190000
DTEND;TZID=America/Phoenix:20290831T220000
DTSTAMP:20260419T132617
CREATED:20250611T045713Z
LAST-MODIFIED:20260331T213151Z
UID:10000578-1882897200-1882908000@johnnysmidtown.com
SUMMARY:Karaoke Party
DESCRIPTION:Kick off your weekend at Johnny’s with our Friday Night Karaoke Party\, hosted by B&B Music! Sing your heart out every Friday night!
URL:https://johnnysmidtown.com/event/karaoke-party-and-live-dj-5/2029-08-31/
LOCATION:Johnnys\, 3870 AZ-260\, Payson\, AZ 85541\, Payson\, AZ\, 85541\, United States
CATEGORIES:Non-Music Event,Trivin
ATTACH;FMTTYPE=image/png:https://johnnysmidtown.com/wp-content/uploads/2025/06/Karaoke-1.png
END:VEVENT
BEGIN:VEVENT
DTSTART;TZID=America/Phoenix:20290904T183000
DTEND;TZID=America/Phoenix:20290904T220000
DTSTAMP:20260419T132617
CREATED:20250610T021750Z
LAST-MODIFIED:20250826T034135Z
UID:10001835-1883241000-1883253600@johnnysmidtown.com
SUMMARY:Trivia Night
DESCRIPTION:Join us for an exciting Trivia Night at Johnny’s in Star Valley! Kicking off at 6:30 PM\, come test your knowledge with fun\, challenging questions in a lively atmosphere. Enjoy delicious food\, refreshing drinks\, and the chance to win awesome prizes! Gather your friends and make it a night to remember at Johnny’s.
URL:https://johnnysmidtown.com/event/trivia-night/2029-09-04/
LOCATION:Johnnys\, 3870 AZ-260\, Payson\, AZ 85541\, Payson\, AZ\, 85541\, United States
CATEGORIES:Non-Music Event,Trivin
ATTACH;FMTTYPE=image/png:https://johnnysmidtown.com/wp-content/uploads/2025/06/Johnnys-Trivia.png
END:VEVENT
BEGIN:VEVENT
DTSTART;TZID=America/Phoenix:20290907T190000
DTEND;TZID=America/Phoenix:20290907T220000
DTSTAMP:20260419T132617
CREATED:20250611T045713Z
LAST-MODIFIED:20260331T213151Z
UID:10000579-1883502000-1883512800@johnnysmidtown.com
SUMMARY:Karaoke Party
DESCRIPTION:Kick off your weekend at Johnny’s with our Friday Night Karaoke Party\, hosted by B&B Music! Sing your heart out every Friday night!
URL:https://johnnysmidtown.com/event/karaoke-party-and-live-dj-5/2029-09-07/
LOCATION:Johnnys\, 3870 AZ-260\, Payson\, AZ 85541\, Payson\, AZ\, 85541\, United States
CATEGORIES:Non-Music Event,Trivin
ATTACH;FMTTYPE=image/png:https://johnnysmidtown.com/wp-content/uploads/2025/06/Karaoke-1.png
END:VEVENT
END:VCALENDAR