BEGIN:VCALENDAR
VERSION:2.0
PRODID:-//Midtown Yard Restaurant - Star Valley, Payson &amp; Rim Country Arizona - ECPv6.13.2.1//NONSGML v1.0//EN
CALSCALE:GREGORIAN
METHOD:PUBLISH
X-ORIGINAL-URL:https://johnnysmidtown.com
X-WR-CALDESC:Events for Midtown Yard Restaurant - Star Valley, Payson &amp; Rim Country Arizona
REFRESH-INTERVAL;VALUE=DURATION:PT1H
X-Robots-Tag:noindex
X-PUBLISHED-TTL:PT1H
BEGIN:VTIMEZONE
TZID:America/Phoenix
BEGIN:STANDARD
TZOFFSETFROM:-0700
TZOFFSETTO:-0700
TZNAME:MST
DTSTART:20280101T000000
END:STANDARD
END:VTIMEZONE
BEGIN:VEVENT
DTSTART;TZID=America/Phoenix:20281212T183000
DTEND;TZID=America/Phoenix:20281212T220000
DTSTAMP:20260419T075236
CREATED:20250610T021750Z
LAST-MODIFIED:20250826T034135Z
UID:10001797-1860258600-1860271200@johnnysmidtown.com
SUMMARY:Trivia Night
DESCRIPTION:Join us for an exciting Trivia Night at Johnny’s in Star Valley! Kicking off at 6:30 PM\, come test your knowledge with fun\, challenging questions in a lively atmosphere. Enjoy delicious food\, refreshing drinks\, and the chance to win awesome prizes! Gather your friends and make it a night to remember at Johnny’s.
URL:https://johnnysmidtown.com/event/trivia-night/2028-12-12/
LOCATION:Johnnys\, 3870 AZ-260\, Payson\, AZ 85541\, Payson\, AZ\, 85541\, United States
CATEGORIES:Non-Music Event,Trivin
ATTACH;FMTTYPE=image/png:https://johnnysmidtown.com/wp-content/uploads/2025/06/Johnnys-Trivia.png
END:VEVENT
BEGIN:VEVENT
DTSTART;TZID=America/Phoenix:20281215T190000
DTEND;TZID=America/Phoenix:20281215T220000
DTSTAMP:20260419T075236
CREATED:20250611T045713Z
LAST-MODIFIED:20260331T213151Z
UID:10000541-1860519600-1860530400@johnnysmidtown.com
SUMMARY:Karaoke Party
DESCRIPTION:Kick off your weekend at Johnny’s with our Friday Night Karaoke Party\, hosted by B&B Music! Sing your heart out every Friday night!
URL:https://johnnysmidtown.com/event/karaoke-party-and-live-dj-5/2028-12-15/
LOCATION:Johnnys\, 3870 AZ-260\, Payson\, AZ 85541\, Payson\, AZ\, 85541\, United States
CATEGORIES:Non-Music Event,Trivin
ATTACH;FMTTYPE=image/png:https://johnnysmidtown.com/wp-content/uploads/2025/06/Karaoke-1.png
END:VEVENT
BEGIN:VEVENT
DTSTART;TZID=America/Phoenix:20281219T183000
DTEND;TZID=America/Phoenix:20281219T220000
DTSTAMP:20260419T075236
CREATED:20250610T021750Z
LAST-MODIFIED:20250826T034135Z
UID:10001798-1860863400-1860876000@johnnysmidtown.com
SUMMARY:Trivia Night
DESCRIPTION:Join us for an exciting Trivia Night at Johnny’s in Star Valley! Kicking off at 6:30 PM\, come test your knowledge with fun\, challenging questions in a lively atmosphere. Enjoy delicious food\, refreshing drinks\, and the chance to win awesome prizes! Gather your friends and make it a night to remember at Johnny’s.
URL:https://johnnysmidtown.com/event/trivia-night/2028-12-19/
LOCATION:Johnnys\, 3870 AZ-260\, Payson\, AZ 85541\, Payson\, AZ\, 85541\, United States
CATEGORIES:Non-Music Event,Trivin
ATTACH;FMTTYPE=image/png:https://johnnysmidtown.com/wp-content/uploads/2025/06/Johnnys-Trivia.png
END:VEVENT
BEGIN:VEVENT
DTSTART;TZID=America/Phoenix:20281222T190000
DTEND;TZID=America/Phoenix:20281222T220000
DTSTAMP:20260419T075236
CREATED:20250611T045713Z
LAST-MODIFIED:20260331T213151Z
UID:10000542-1861124400-1861135200@johnnysmidtown.com
SUMMARY:Karaoke Party
DESCRIPTION:Kick off your weekend at Johnny’s with our Friday Night Karaoke Party\, hosted by B&B Music! Sing your heart out every Friday night!
URL:https://johnnysmidtown.com/event/karaoke-party-and-live-dj-5/2028-12-22/
LOCATION:Johnnys\, 3870 AZ-260\, Payson\, AZ 85541\, Payson\, AZ\, 85541\, United States
CATEGORIES:Non-Music Event,Trivin
ATTACH;FMTTYPE=image/png:https://johnnysmidtown.com/wp-content/uploads/2025/06/Karaoke-1.png
END:VEVENT
BEGIN:VEVENT
DTSTART;TZID=America/Phoenix:20281226T183000
DTEND;TZID=America/Phoenix:20281226T220000
DTSTAMP:20260419T075236
CREATED:20250610T021750Z
LAST-MODIFIED:20250826T034135Z
UID:10001799-1861468200-1861480800@johnnysmidtown.com
SUMMARY:Trivia Night
DESCRIPTION:Join us for an exciting Trivia Night at Johnny’s in Star Valley! Kicking off at 6:30 PM\, come test your knowledge with fun\, challenging questions in a lively atmosphere. Enjoy delicious food\, refreshing drinks\, and the chance to win awesome prizes! Gather your friends and make it a night to remember at Johnny’s.
URL:https://johnnysmidtown.com/event/trivia-night/2028-12-26/
LOCATION:Johnnys\, 3870 AZ-260\, Payson\, AZ 85541\, Payson\, AZ\, 85541\, United States
CATEGORIES:Non-Music Event,Trivin
ATTACH;FMTTYPE=image/png:https://johnnysmidtown.com/wp-content/uploads/2025/06/Johnnys-Trivia.png
END:VEVENT
BEGIN:VEVENT
DTSTART;TZID=America/Phoenix:20281229T190000
DTEND;TZID=America/Phoenix:20281229T220000
DTSTAMP:20260419T075236
CREATED:20250611T045713Z
LAST-MODIFIED:20260331T213151Z
UID:10000543-1861729200-1861740000@johnnysmidtown.com
SUMMARY:Karaoke Party
DESCRIPTION:Kick off your weekend at Johnny’s with our Friday Night Karaoke Party\, hosted by B&B Music! Sing your heart out every Friday night!
URL:https://johnnysmidtown.com/event/karaoke-party-and-live-dj-5/2028-12-29/
LOCATION:Johnnys\, 3870 AZ-260\, Payson\, AZ 85541\, Payson\, AZ\, 85541\, United States
CATEGORIES:Non-Music Event,Trivin
ATTACH;FMTTYPE=image/png:https://johnnysmidtown.com/wp-content/uploads/2025/06/Karaoke-1.png
END:VEVENT
BEGIN:VEVENT
DTSTART;TZID=America/Phoenix:20290102T183000
DTEND;TZID=America/Phoenix:20290102T220000
DTSTAMP:20260419T075236
CREATED:20250610T021750Z
LAST-MODIFIED:20250826T034135Z
UID:10001800-1862073000-1862085600@johnnysmidtown.com
SUMMARY:Trivia Night
DESCRIPTION:Join us for an exciting Trivia Night at Johnny’s in Star Valley! Kicking off at 6:30 PM\, come test your knowledge with fun\, challenging questions in a lively atmosphere. Enjoy delicious food\, refreshing drinks\, and the chance to win awesome prizes! Gather your friends and make it a night to remember at Johnny’s.
URL:https://johnnysmidtown.com/event/trivia-night/2029-01-02/
LOCATION:Johnnys\, 3870 AZ-260\, Payson\, AZ 85541\, Payson\, AZ\, 85541\, United States
CATEGORIES:Non-Music Event,Trivin
ATTACH;FMTTYPE=image/png:https://johnnysmidtown.com/wp-content/uploads/2025/06/Johnnys-Trivia.png
END:VEVENT
BEGIN:VEVENT
DTSTART;TZID=America/Phoenix:20290105T190000
DTEND;TZID=America/Phoenix:20290105T220000
DTSTAMP:20260419T075236
CREATED:20250611T045713Z
LAST-MODIFIED:20260331T213151Z
UID:10000544-1862334000-1862344800@johnnysmidtown.com
SUMMARY:Karaoke Party
DESCRIPTION:Kick off your weekend at Johnny’s with our Friday Night Karaoke Party\, hosted by B&B Music! Sing your heart out every Friday night!
URL:https://johnnysmidtown.com/event/karaoke-party-and-live-dj-5/2029-01-05/
LOCATION:Johnnys\, 3870 AZ-260\, Payson\, AZ 85541\, Payson\, AZ\, 85541\, United States
CATEGORIES:Non-Music Event,Trivin
ATTACH;FMTTYPE=image/png:https://johnnysmidtown.com/wp-content/uploads/2025/06/Karaoke-1.png
END:VEVENT
BEGIN:VEVENT
DTSTART;TZID=America/Phoenix:20290109T183000
DTEND;TZID=America/Phoenix:20290109T220000
DTSTAMP:20260419T075236
CREATED:20250610T021750Z
LAST-MODIFIED:20250826T034135Z
UID:10001801-1862677800-1862690400@johnnysmidtown.com
SUMMARY:Trivia Night
DESCRIPTION:Join us for an exciting Trivia Night at Johnny’s in Star Valley! Kicking off at 6:30 PM\, come test your knowledge with fun\, challenging questions in a lively atmosphere. Enjoy delicious food\, refreshing drinks\, and the chance to win awesome prizes! Gather your friends and make it a night to remember at Johnny’s.
URL:https://johnnysmidtown.com/event/trivia-night/2029-01-09/
LOCATION:Johnnys\, 3870 AZ-260\, Payson\, AZ 85541\, Payson\, AZ\, 85541\, United States
CATEGORIES:Non-Music Event,Trivin
ATTACH;FMTTYPE=image/png:https://johnnysmidtown.com/wp-content/uploads/2025/06/Johnnys-Trivia.png
END:VEVENT
BEGIN:VEVENT
DTSTART;TZID=America/Phoenix:20290112T190000
DTEND;TZID=America/Phoenix:20290112T220000
DTSTAMP:20260419T075236
CREATED:20250611T045713Z
LAST-MODIFIED:20260331T213151Z
UID:10000545-1862938800-1862949600@johnnysmidtown.com
SUMMARY:Karaoke Party
DESCRIPTION:Kick off your weekend at Johnny’s with our Friday Night Karaoke Party\, hosted by B&B Music! Sing your heart out every Friday night!
URL:https://johnnysmidtown.com/event/karaoke-party-and-live-dj-5/2029-01-12/
LOCATION:Johnnys\, 3870 AZ-260\, Payson\, AZ 85541\, Payson\, AZ\, 85541\, United States
CATEGORIES:Non-Music Event,Trivin
ATTACH;FMTTYPE=image/png:https://johnnysmidtown.com/wp-content/uploads/2025/06/Karaoke-1.png
END:VEVENT
BEGIN:VEVENT
DTSTART;TZID=America/Phoenix:20290116T183000
DTEND;TZID=America/Phoenix:20290116T220000
DTSTAMP:20260419T075236
CREATED:20250610T021750Z
LAST-MODIFIED:20250826T034135Z
UID:10001802-1863282600-1863295200@johnnysmidtown.com
SUMMARY:Trivia Night
DESCRIPTION:Join us for an exciting Trivia Night at Johnny’s in Star Valley! Kicking off at 6:30 PM\, come test your knowledge with fun\, challenging questions in a lively atmosphere. Enjoy delicious food\, refreshing drinks\, and the chance to win awesome prizes! Gather your friends and make it a night to remember at Johnny’s.
URL:https://johnnysmidtown.com/event/trivia-night/2029-01-16/
LOCATION:Johnnys\, 3870 AZ-260\, Payson\, AZ 85541\, Payson\, AZ\, 85541\, United States
CATEGORIES:Non-Music Event,Trivin
ATTACH;FMTTYPE=image/png:https://johnnysmidtown.com/wp-content/uploads/2025/06/Johnnys-Trivia.png
END:VEVENT
BEGIN:VEVENT
DTSTART;TZID=America/Phoenix:20290119T190000
DTEND;TZID=America/Phoenix:20290119T220000
DTSTAMP:20260419T075236
CREATED:20250611T045713Z
LAST-MODIFIED:20260331T213151Z
UID:10000546-1863543600-1863554400@johnnysmidtown.com
SUMMARY:Karaoke Party
DESCRIPTION:Kick off your weekend at Johnny’s with our Friday Night Karaoke Party\, hosted by B&B Music! Sing your heart out every Friday night!
URL:https://johnnysmidtown.com/event/karaoke-party-and-live-dj-5/2029-01-19/
LOCATION:Johnnys\, 3870 AZ-260\, Payson\, AZ 85541\, Payson\, AZ\, 85541\, United States
CATEGORIES:Non-Music Event,Trivin
ATTACH;FMTTYPE=image/png:https://johnnysmidtown.com/wp-content/uploads/2025/06/Karaoke-1.png
END:VEVENT
BEGIN:VEVENT
DTSTART;TZID=America/Phoenix:20290123T183000
DTEND;TZID=America/Phoenix:20290123T220000
DTSTAMP:20260419T075236
CREATED:20250610T021750Z
LAST-MODIFIED:20250826T034135Z
UID:10001803-1863887400-1863900000@johnnysmidtown.com
SUMMARY:Trivia Night
DESCRIPTION:Join us for an exciting Trivia Night at Johnny’s in Star Valley! Kicking off at 6:30 PM\, come test your knowledge with fun\, challenging questions in a lively atmosphere. Enjoy delicious food\, refreshing drinks\, and the chance to win awesome prizes! Gather your friends and make it a night to remember at Johnny’s.
URL:https://johnnysmidtown.com/event/trivia-night/2029-01-23/
LOCATION:Johnnys\, 3870 AZ-260\, Payson\, AZ 85541\, Payson\, AZ\, 85541\, United States
CATEGORIES:Non-Music Event,Trivin
ATTACH;FMTTYPE=image/png:https://johnnysmidtown.com/wp-content/uploads/2025/06/Johnnys-Trivia.png
END:VEVENT
BEGIN:VEVENT
DTSTART;TZID=America/Phoenix:20290126T190000
DTEND;TZID=America/Phoenix:20290126T220000
DTSTAMP:20260419T075236
CREATED:20250611T045713Z
LAST-MODIFIED:20260331T213151Z
UID:10000547-1864148400-1864159200@johnnysmidtown.com
SUMMARY:Karaoke Party
DESCRIPTION:Kick off your weekend at Johnny’s with our Friday Night Karaoke Party\, hosted by B&B Music! Sing your heart out every Friday night!
URL:https://johnnysmidtown.com/event/karaoke-party-and-live-dj-5/2029-01-26/
LOCATION:Johnnys\, 3870 AZ-260\, Payson\, AZ 85541\, Payson\, AZ\, 85541\, United States
CATEGORIES:Non-Music Event,Trivin
ATTACH;FMTTYPE=image/png:https://johnnysmidtown.com/wp-content/uploads/2025/06/Karaoke-1.png
END:VEVENT
BEGIN:VEVENT
DTSTART;TZID=America/Phoenix:20290130T183000
DTEND;TZID=America/Phoenix:20290130T220000
DTSTAMP:20260419T075236
CREATED:20250610T021750Z
LAST-MODIFIED:20250826T034135Z
UID:10001804-1864492200-1864504800@johnnysmidtown.com
SUMMARY:Trivia Night
DESCRIPTION:Join us for an exciting Trivia Night at Johnny’s in Star Valley! Kicking off at 6:30 PM\, come test your knowledge with fun\, challenging questions in a lively atmosphere. Enjoy delicious food\, refreshing drinks\, and the chance to win awesome prizes! Gather your friends and make it a night to remember at Johnny’s.
URL:https://johnnysmidtown.com/event/trivia-night/2029-01-30/
LOCATION:Johnnys\, 3870 AZ-260\, Payson\, AZ 85541\, Payson\, AZ\, 85541\, United States
CATEGORIES:Non-Music Event,Trivin
ATTACH;FMTTYPE=image/png:https://johnnysmidtown.com/wp-content/uploads/2025/06/Johnnys-Trivia.png
END:VEVENT
BEGIN:VEVENT
DTSTART;TZID=America/Phoenix:20290202T190000
DTEND;TZID=America/Phoenix:20290202T220000
DTSTAMP:20260419T075236
CREATED:20250611T045713Z
LAST-MODIFIED:20260331T213151Z
UID:10000548-1864753200-1864764000@johnnysmidtown.com
SUMMARY:Karaoke Party
DESCRIPTION:Kick off your weekend at Johnny’s with our Friday Night Karaoke Party\, hosted by B&B Music! Sing your heart out every Friday night!
URL:https://johnnysmidtown.com/event/karaoke-party-and-live-dj-5/2029-02-02/
LOCATION:Johnnys\, 3870 AZ-260\, Payson\, AZ 85541\, Payson\, AZ\, 85541\, United States
CATEGORIES:Non-Music Event,Trivin
ATTACH;FMTTYPE=image/png:https://johnnysmidtown.com/wp-content/uploads/2025/06/Karaoke-1.png
END:VEVENT
BEGIN:VEVENT
DTSTART;TZID=America/Phoenix:20290206T183000
DTEND;TZID=America/Phoenix:20290206T220000
DTSTAMP:20260419T075236
CREATED:20250610T021750Z
LAST-MODIFIED:20250826T034135Z
UID:10001805-1865097000-1865109600@johnnysmidtown.com
SUMMARY:Trivia Night
DESCRIPTION:Join us for an exciting Trivia Night at Johnny’s in Star Valley! Kicking off at 6:30 PM\, come test your knowledge with fun\, challenging questions in a lively atmosphere. Enjoy delicious food\, refreshing drinks\, and the chance to win awesome prizes! Gather your friends and make it a night to remember at Johnny’s.
URL:https://johnnysmidtown.com/event/trivia-night/2029-02-06/
LOCATION:Johnnys\, 3870 AZ-260\, Payson\, AZ 85541\, Payson\, AZ\, 85541\, United States
CATEGORIES:Non-Music Event,Trivin
ATTACH;FMTTYPE=image/png:https://johnnysmidtown.com/wp-content/uploads/2025/06/Johnnys-Trivia.png
END:VEVENT
BEGIN:VEVENT
DTSTART;TZID=America/Phoenix:20290209T190000
DTEND;TZID=America/Phoenix:20290209T220000
DTSTAMP:20260419T075236
CREATED:20250611T045713Z
LAST-MODIFIED:20260331T213151Z
UID:10000549-1865358000-1865368800@johnnysmidtown.com
SUMMARY:Karaoke Party
DESCRIPTION:Kick off your weekend at Johnny’s with our Friday Night Karaoke Party\, hosted by B&B Music! Sing your heart out every Friday night!
URL:https://johnnysmidtown.com/event/karaoke-party-and-live-dj-5/2029-02-09/
LOCATION:Johnnys\, 3870 AZ-260\, Payson\, AZ 85541\, Payson\, AZ\, 85541\, United States
CATEGORIES:Non-Music Event,Trivin
ATTACH;FMTTYPE=image/png:https://johnnysmidtown.com/wp-content/uploads/2025/06/Karaoke-1.png
END:VEVENT
BEGIN:VEVENT
DTSTART;TZID=America/Phoenix:20290213T183000
DTEND;TZID=America/Phoenix:20290213T220000
DTSTAMP:20260419T075236
CREATED:20250610T021750Z
LAST-MODIFIED:20250826T034135Z
UID:10001806-1865701800-1865714400@johnnysmidtown.com
SUMMARY:Trivia Night
DESCRIPTION:Join us for an exciting Trivia Night at Johnny’s in Star Valley! Kicking off at 6:30 PM\, come test your knowledge with fun\, challenging questions in a lively atmosphere. Enjoy delicious food\, refreshing drinks\, and the chance to win awesome prizes! Gather your friends and make it a night to remember at Johnny’s.
URL:https://johnnysmidtown.com/event/trivia-night/2029-02-13/
LOCATION:Johnnys\, 3870 AZ-260\, Payson\, AZ 85541\, Payson\, AZ\, 85541\, United States
CATEGORIES:Non-Music Event,Trivin
ATTACH;FMTTYPE=image/png:https://johnnysmidtown.com/wp-content/uploads/2025/06/Johnnys-Trivia.png
END:VEVENT
BEGIN:VEVENT
DTSTART;TZID=America/Phoenix:20290216T190000
DTEND;TZID=America/Phoenix:20290216T220000
DTSTAMP:20260419T075236
CREATED:20250611T045713Z
LAST-MODIFIED:20260331T213151Z
UID:10000550-1865962800-1865973600@johnnysmidtown.com
SUMMARY:Karaoke Party
DESCRIPTION:Kick off your weekend at Johnny’s with our Friday Night Karaoke Party\, hosted by B&B Music! Sing your heart out every Friday night!
URL:https://johnnysmidtown.com/event/karaoke-party-and-live-dj-5/2029-02-16/
LOCATION:Johnnys\, 3870 AZ-260\, Payson\, AZ 85541\, Payson\, AZ\, 85541\, United States
CATEGORIES:Non-Music Event,Trivin
ATTACH;FMTTYPE=image/png:https://johnnysmidtown.com/wp-content/uploads/2025/06/Karaoke-1.png
END:VEVENT
BEGIN:VEVENT
DTSTART;TZID=America/Phoenix:20290220T183000
DTEND;TZID=America/Phoenix:20290220T220000
DTSTAMP:20260419T075236
CREATED:20250610T021750Z
LAST-MODIFIED:20250826T034135Z
UID:10001807-1866306600-1866319200@johnnysmidtown.com
SUMMARY:Trivia Night
DESCRIPTION:Join us for an exciting Trivia Night at Johnny’s in Star Valley! Kicking off at 6:30 PM\, come test your knowledge with fun\, challenging questions in a lively atmosphere. Enjoy delicious food\, refreshing drinks\, and the chance to win awesome prizes! Gather your friends and make it a night to remember at Johnny’s.
URL:https://johnnysmidtown.com/event/trivia-night/2029-02-20/
LOCATION:Johnnys\, 3870 AZ-260\, Payson\, AZ 85541\, Payson\, AZ\, 85541\, United States
CATEGORIES:Non-Music Event,Trivin
ATTACH;FMTTYPE=image/png:https://johnnysmidtown.com/wp-content/uploads/2025/06/Johnnys-Trivia.png
END:VEVENT
BEGIN:VEVENT
DTSTART;TZID=America/Phoenix:20290223T190000
DTEND;TZID=America/Phoenix:20290223T220000
DTSTAMP:20260419T075236
CREATED:20250611T045713Z
LAST-MODIFIED:20260331T213151Z
UID:10000551-1866567600-1866578400@johnnysmidtown.com
SUMMARY:Karaoke Party
DESCRIPTION:Kick off your weekend at Johnny’s with our Friday Night Karaoke Party\, hosted by B&B Music! Sing your heart out every Friday night!
URL:https://johnnysmidtown.com/event/karaoke-party-and-live-dj-5/2029-02-23/
LOCATION:Johnnys\, 3870 AZ-260\, Payson\, AZ 85541\, Payson\, AZ\, 85541\, United States
CATEGORIES:Non-Music Event,Trivin
ATTACH;FMTTYPE=image/png:https://johnnysmidtown.com/wp-content/uploads/2025/06/Karaoke-1.png
END:VEVENT
BEGIN:VEVENT
DTSTART;TZID=America/Phoenix:20290227T183000
DTEND;TZID=America/Phoenix:20290227T220000
DTSTAMP:20260419T075236
CREATED:20250610T021750Z
LAST-MODIFIED:20250826T034135Z
UID:10001808-1866911400-1866924000@johnnysmidtown.com
SUMMARY:Trivia Night
DESCRIPTION:Join us for an exciting Trivia Night at Johnny’s in Star Valley! Kicking off at 6:30 PM\, come test your knowledge with fun\, challenging questions in a lively atmosphere. Enjoy delicious food\, refreshing drinks\, and the chance to win awesome prizes! Gather your friends and make it a night to remember at Johnny’s.
URL:https://johnnysmidtown.com/event/trivia-night/2029-02-27/
LOCATION:Johnnys\, 3870 AZ-260\, Payson\, AZ 85541\, Payson\, AZ\, 85541\, United States
CATEGORIES:Non-Music Event,Trivin
ATTACH;FMTTYPE=image/png:https://johnnysmidtown.com/wp-content/uploads/2025/06/Johnnys-Trivia.png
END:VEVENT
BEGIN:VEVENT
DTSTART;TZID=America/Phoenix:20290302T190000
DTEND;TZID=America/Phoenix:20290302T220000
DTSTAMP:20260419T075236
CREATED:20250611T045713Z
LAST-MODIFIED:20260331T213151Z
UID:10000552-1867172400-1867183200@johnnysmidtown.com
SUMMARY:Karaoke Party
DESCRIPTION:Kick off your weekend at Johnny’s with our Friday Night Karaoke Party\, hosted by B&B Music! Sing your heart out every Friday night!
URL:https://johnnysmidtown.com/event/karaoke-party-and-live-dj-5/2029-03-02/
LOCATION:Johnnys\, 3870 AZ-260\, Payson\, AZ 85541\, Payson\, AZ\, 85541\, United States
CATEGORIES:Non-Music Event,Trivin
ATTACH;FMTTYPE=image/png:https://johnnysmidtown.com/wp-content/uploads/2025/06/Karaoke-1.png
END:VEVENT
BEGIN:VEVENT
DTSTART;TZID=America/Phoenix:20290306T183000
DTEND;TZID=America/Phoenix:20290306T220000
DTSTAMP:20260419T075236
CREATED:20250610T021750Z
LAST-MODIFIED:20250826T034135Z
UID:10001809-1867516200-1867528800@johnnysmidtown.com
SUMMARY:Trivia Night
DESCRIPTION:Join us for an exciting Trivia Night at Johnny’s in Star Valley! Kicking off at 6:30 PM\, come test your knowledge with fun\, challenging questions in a lively atmosphere. Enjoy delicious food\, refreshing drinks\, and the chance to win awesome prizes! Gather your friends and make it a night to remember at Johnny’s.
URL:https://johnnysmidtown.com/event/trivia-night/2029-03-06/
LOCATION:Johnnys\, 3870 AZ-260\, Payson\, AZ 85541\, Payson\, AZ\, 85541\, United States
CATEGORIES:Non-Music Event,Trivin
ATTACH;FMTTYPE=image/png:https://johnnysmidtown.com/wp-content/uploads/2025/06/Johnnys-Trivia.png
END:VEVENT
BEGIN:VEVENT
DTSTART;TZID=America/Phoenix:20290309T190000
DTEND;TZID=America/Phoenix:20290309T220000
DTSTAMP:20260419T075236
CREATED:20250611T045713Z
LAST-MODIFIED:20260331T213151Z
UID:10000553-1867777200-1867788000@johnnysmidtown.com
SUMMARY:Karaoke Party
DESCRIPTION:Kick off your weekend at Johnny’s with our Friday Night Karaoke Party\, hosted by B&B Music! Sing your heart out every Friday night!
URL:https://johnnysmidtown.com/event/karaoke-party-and-live-dj-5/2029-03-09/
LOCATION:Johnnys\, 3870 AZ-260\, Payson\, AZ 85541\, Payson\, AZ\, 85541\, United States
CATEGORIES:Non-Music Event,Trivin
ATTACH;FMTTYPE=image/png:https://johnnysmidtown.com/wp-content/uploads/2025/06/Karaoke-1.png
END:VEVENT
BEGIN:VEVENT
DTSTART;TZID=America/Phoenix:20290313T183000
DTEND;TZID=America/Phoenix:20290313T220000
DTSTAMP:20260419T075236
CREATED:20250610T021750Z
LAST-MODIFIED:20250826T034135Z
UID:10001810-1868121000-1868133600@johnnysmidtown.com
SUMMARY:Trivia Night
DESCRIPTION:Join us for an exciting Trivia Night at Johnny’s in Star Valley! Kicking off at 6:30 PM\, come test your knowledge with fun\, challenging questions in a lively atmosphere. Enjoy delicious food\, refreshing drinks\, and the chance to win awesome prizes! Gather your friends and make it a night to remember at Johnny’s.
URL:https://johnnysmidtown.com/event/trivia-night/2029-03-13/
LOCATION:Johnnys\, 3870 AZ-260\, Payson\, AZ 85541\, Payson\, AZ\, 85541\, United States
CATEGORIES:Non-Music Event,Trivin
ATTACH;FMTTYPE=image/png:https://johnnysmidtown.com/wp-content/uploads/2025/06/Johnnys-Trivia.png
END:VEVENT
BEGIN:VEVENT
DTSTART;TZID=America/Phoenix:20290316T190000
DTEND;TZID=America/Phoenix:20290316T220000
DTSTAMP:20260419T075236
CREATED:20250611T045713Z
LAST-MODIFIED:20260331T213151Z
UID:10000554-1868382000-1868392800@johnnysmidtown.com
SUMMARY:Karaoke Party
DESCRIPTION:Kick off your weekend at Johnny’s with our Friday Night Karaoke Party\, hosted by B&B Music! Sing your heart out every Friday night!
URL:https://johnnysmidtown.com/event/karaoke-party-and-live-dj-5/2029-03-16/
LOCATION:Johnnys\, 3870 AZ-260\, Payson\, AZ 85541\, Payson\, AZ\, 85541\, United States
CATEGORIES:Non-Music Event,Trivin
ATTACH;FMTTYPE=image/png:https://johnnysmidtown.com/wp-content/uploads/2025/06/Karaoke-1.png
END:VEVENT
BEGIN:VEVENT
DTSTART;TZID=America/Phoenix:20290320T183000
DTEND;TZID=America/Phoenix:20290320T220000
DTSTAMP:20260419T075236
CREATED:20250610T021750Z
LAST-MODIFIED:20250826T034135Z
UID:10001811-1868725800-1868738400@johnnysmidtown.com
SUMMARY:Trivia Night
DESCRIPTION:Join us for an exciting Trivia Night at Johnny’s in Star Valley! Kicking off at 6:30 PM\, come test your knowledge with fun\, challenging questions in a lively atmosphere. Enjoy delicious food\, refreshing drinks\, and the chance to win awesome prizes! Gather your friends and make it a night to remember at Johnny’s.
URL:https://johnnysmidtown.com/event/trivia-night/2029-03-20/
LOCATION:Johnnys\, 3870 AZ-260\, Payson\, AZ 85541\, Payson\, AZ\, 85541\, United States
CATEGORIES:Non-Music Event,Trivin
ATTACH;FMTTYPE=image/png:https://johnnysmidtown.com/wp-content/uploads/2025/06/Johnnys-Trivia.png
END:VEVENT
BEGIN:VEVENT
DTSTART;TZID=America/Phoenix:20290323T190000
DTEND;TZID=America/Phoenix:20290323T220000
DTSTAMP:20260419T075236
CREATED:20250611T045713Z
LAST-MODIFIED:20260331T213151Z
UID:10000555-1868986800-1868997600@johnnysmidtown.com
SUMMARY:Karaoke Party
DESCRIPTION:Kick off your weekend at Johnny’s with our Friday Night Karaoke Party\, hosted by B&B Music! Sing your heart out every Friday night!
URL:https://johnnysmidtown.com/event/karaoke-party-and-live-dj-5/2029-03-23/
LOCATION:Johnnys\, 3870 AZ-260\, Payson\, AZ 85541\, Payson\, AZ\, 85541\, United States
CATEGORIES:Non-Music Event,Trivin
ATTACH;FMTTYPE=image/png:https://johnnysmidtown.com/wp-content/uploads/2025/06/Karaoke-1.png
END:VEVENT
END:VCALENDAR