BEGIN:VCALENDAR
VERSION:2.0
PRODID:-//Midtown Yard Restaurant - Star Valley, Payson &amp; Rim Country Arizona - ECPv6.13.2.1//NONSGML v1.0//EN
CALSCALE:GREGORIAN
METHOD:PUBLISH
X-ORIGINAL-URL:https://johnnysmidtown.com
X-WR-CALDESC:Events for Midtown Yard Restaurant - Star Valley, Payson &amp; Rim Country Arizona
REFRESH-INTERVAL;VALUE=DURATION:PT1H
X-Robots-Tag:noindex
X-PUBLISHED-TTL:PT1H
BEGIN:VTIMEZONE
TZID:America/Phoenix
BEGIN:STANDARD
TZOFFSETFROM:-0700
TZOFFSETTO:-0700
TZNAME:MST
DTSTART:20300101T000000
END:STANDARD
END:VTIMEZONE
BEGIN:VEVENT
DTSTART;TZID=America/Phoenix:20300322T190000
DTEND;TZID=America/Phoenix:20300322T220000
DTSTAMP:20260419T212927
CREATED:20250611T045713Z
LAST-MODIFIED:20260331T213151Z
UID:10000607-1900436400-1900447200@johnnysmidtown.com
SUMMARY:Karaoke Party
DESCRIPTION:Kick off your weekend at Johnny’s with our Friday Night Karaoke Party\, hosted by B&B Music! Sing your heart out every Friday night!
URL:https://johnnysmidtown.com/event/karaoke-party-and-live-dj-5/2030-03-22/
LOCATION:Johnnys\, 3870 AZ-260\, Payson\, AZ 85541\, Payson\, AZ\, 85541\, United States
CATEGORIES:Non-Music Event,Trivin
ATTACH;FMTTYPE=image/png:https://johnnysmidtown.com/wp-content/uploads/2025/06/Karaoke-1.png
END:VEVENT
BEGIN:VEVENT
DTSTART;TZID=America/Phoenix:20300329T190000
DTEND;TZID=America/Phoenix:20300329T220000
DTSTAMP:20260419T212927
CREATED:20250611T045713Z
LAST-MODIFIED:20260331T213151Z
UID:10000608-1901041200-1901052000@johnnysmidtown.com
SUMMARY:Karaoke Party
DESCRIPTION:Kick off your weekend at Johnny’s with our Friday Night Karaoke Party\, hosted by B&B Music! Sing your heart out every Friday night!
URL:https://johnnysmidtown.com/event/karaoke-party-and-live-dj-5/2030-03-29/
LOCATION:Johnnys\, 3870 AZ-260\, Payson\, AZ 85541\, Payson\, AZ\, 85541\, United States
CATEGORIES:Non-Music Event,Trivin
ATTACH;FMTTYPE=image/png:https://johnnysmidtown.com/wp-content/uploads/2025/06/Karaoke-1.png
END:VEVENT
BEGIN:VEVENT
DTSTART;TZID=America/Phoenix:20300405T190000
DTEND;TZID=America/Phoenix:20300405T220000
DTSTAMP:20260419T212927
CREATED:20250611T045713Z
LAST-MODIFIED:20260331T213151Z
UID:10000609-1901646000-1901656800@johnnysmidtown.com
SUMMARY:Karaoke Party
DESCRIPTION:Kick off your weekend at Johnny’s with our Friday Night Karaoke Party\, hosted by B&B Music! Sing your heart out every Friday night!
URL:https://johnnysmidtown.com/event/karaoke-party-and-live-dj-5/2030-04-05/
LOCATION:Johnnys\, 3870 AZ-260\, Payson\, AZ 85541\, Payson\, AZ\, 85541\, United States
CATEGORIES:Non-Music Event,Trivin
ATTACH;FMTTYPE=image/png:https://johnnysmidtown.com/wp-content/uploads/2025/06/Karaoke-1.png
END:VEVENT
BEGIN:VEVENT
DTSTART;TZID=America/Phoenix:20300412T190000
DTEND;TZID=America/Phoenix:20300412T220000
DTSTAMP:20260419T212927
CREATED:20250611T045713Z
LAST-MODIFIED:20260331T213151Z
UID:10000610-1902250800-1902261600@johnnysmidtown.com
SUMMARY:Karaoke Party
DESCRIPTION:Kick off your weekend at Johnny’s with our Friday Night Karaoke Party\, hosted by B&B Music! Sing your heart out every Friday night!
URL:https://johnnysmidtown.com/event/karaoke-party-and-live-dj-5/2030-04-12/
LOCATION:Johnnys\, 3870 AZ-260\, Payson\, AZ 85541\, Payson\, AZ\, 85541\, United States
CATEGORIES:Non-Music Event,Trivin
ATTACH;FMTTYPE=image/png:https://johnnysmidtown.com/wp-content/uploads/2025/06/Karaoke-1.png
END:VEVENT
BEGIN:VEVENT
DTSTART;TZID=America/Phoenix:20300419T190000
DTEND;TZID=America/Phoenix:20300419T220000
DTSTAMP:20260419T212927
CREATED:20250611T045713Z
LAST-MODIFIED:20260331T213151Z
UID:10000611-1902855600-1902866400@johnnysmidtown.com
SUMMARY:Karaoke Party
DESCRIPTION:Kick off your weekend at Johnny’s with our Friday Night Karaoke Party\, hosted by B&B Music! Sing your heart out every Friday night!
URL:https://johnnysmidtown.com/event/karaoke-party-and-live-dj-5/2030-04-19/
LOCATION:Johnnys\, 3870 AZ-260\, Payson\, AZ 85541\, Payson\, AZ\, 85541\, United States
CATEGORIES:Non-Music Event,Trivin
ATTACH;FMTTYPE=image/png:https://johnnysmidtown.com/wp-content/uploads/2025/06/Karaoke-1.png
END:VEVENT
BEGIN:VEVENT
DTSTART;TZID=America/Phoenix:20300426T190000
DTEND;TZID=America/Phoenix:20300426T220000
DTSTAMP:20260419T212927
CREATED:20250611T045713Z
LAST-MODIFIED:20260331T213151Z
UID:10000612-1903460400-1903471200@johnnysmidtown.com
SUMMARY:Karaoke Party
DESCRIPTION:Kick off your weekend at Johnny’s with our Friday Night Karaoke Party\, hosted by B&B Music! Sing your heart out every Friday night!
URL:https://johnnysmidtown.com/event/karaoke-party-and-live-dj-5/2030-04-26/
LOCATION:Johnnys\, 3870 AZ-260\, Payson\, AZ 85541\, Payson\, AZ\, 85541\, United States
CATEGORIES:Non-Music Event,Trivin
ATTACH;FMTTYPE=image/png:https://johnnysmidtown.com/wp-content/uploads/2025/06/Karaoke-1.png
END:VEVENT
BEGIN:VEVENT
DTSTART;TZID=America/Phoenix:20300503T190000
DTEND;TZID=America/Phoenix:20300503T220000
DTSTAMP:20260419T212927
CREATED:20250611T045713Z
LAST-MODIFIED:20260331T213151Z
UID:10000613-1904065200-1904076000@johnnysmidtown.com
SUMMARY:Karaoke Party
DESCRIPTION:Kick off your weekend at Johnny’s with our Friday Night Karaoke Party\, hosted by B&B Music! Sing your heart out every Friday night!
URL:https://johnnysmidtown.com/event/karaoke-party-and-live-dj-5/2030-05-03/
LOCATION:Johnnys\, 3870 AZ-260\, Payson\, AZ 85541\, Payson\, AZ\, 85541\, United States
CATEGORIES:Non-Music Event,Trivin
ATTACH;FMTTYPE=image/png:https://johnnysmidtown.com/wp-content/uploads/2025/06/Karaoke-1.png
END:VEVENT
BEGIN:VEVENT
DTSTART;TZID=America/Phoenix:20300510T190000
DTEND;TZID=America/Phoenix:20300510T220000
DTSTAMP:20260419T212927
CREATED:20250611T045713Z
LAST-MODIFIED:20260331T213151Z
UID:10000614-1904670000-1904680800@johnnysmidtown.com
SUMMARY:Karaoke Party
DESCRIPTION:Kick off your weekend at Johnny’s with our Friday Night Karaoke Party\, hosted by B&B Music! Sing your heart out every Friday night!
URL:https://johnnysmidtown.com/event/karaoke-party-and-live-dj-5/2030-05-10/
LOCATION:Johnnys\, 3870 AZ-260\, Payson\, AZ 85541\, Payson\, AZ\, 85541\, United States
CATEGORIES:Non-Music Event,Trivin
ATTACH;FMTTYPE=image/png:https://johnnysmidtown.com/wp-content/uploads/2025/06/Karaoke-1.png
END:VEVENT
BEGIN:VEVENT
DTSTART;TZID=America/Phoenix:20300517T190000
DTEND;TZID=America/Phoenix:20300517T220000
DTSTAMP:20260419T212927
CREATED:20250611T045713Z
LAST-MODIFIED:20260331T213151Z
UID:10000615-1905274800-1905285600@johnnysmidtown.com
SUMMARY:Karaoke Party
DESCRIPTION:Kick off your weekend at Johnny’s with our Friday Night Karaoke Party\, hosted by B&B Music! Sing your heart out every Friday night!
URL:https://johnnysmidtown.com/event/karaoke-party-and-live-dj-5/2030-05-17/
LOCATION:Johnnys\, 3870 AZ-260\, Payson\, AZ 85541\, Payson\, AZ\, 85541\, United States
CATEGORIES:Non-Music Event,Trivin
ATTACH;FMTTYPE=image/png:https://johnnysmidtown.com/wp-content/uploads/2025/06/Karaoke-1.png
END:VEVENT
BEGIN:VEVENT
DTSTART;TZID=America/Phoenix:20300524T190000
DTEND;TZID=America/Phoenix:20300524T220000
DTSTAMP:20260419T212927
CREATED:20250611T045713Z
LAST-MODIFIED:20260331T213151Z
UID:10000616-1905879600-1905890400@johnnysmidtown.com
SUMMARY:Karaoke Party
DESCRIPTION:Kick off your weekend at Johnny’s with our Friday Night Karaoke Party\, hosted by B&B Music! Sing your heart out every Friday night!
URL:https://johnnysmidtown.com/event/karaoke-party-and-live-dj-5/2030-05-24/
LOCATION:Johnnys\, 3870 AZ-260\, Payson\, AZ 85541\, Payson\, AZ\, 85541\, United States
CATEGORIES:Non-Music Event,Trivin
ATTACH;FMTTYPE=image/png:https://johnnysmidtown.com/wp-content/uploads/2025/06/Karaoke-1.png
END:VEVENT
BEGIN:VEVENT
DTSTART;TZID=America/Phoenix:20300531T190000
DTEND;TZID=America/Phoenix:20300531T220000
DTSTAMP:20260419T212927
CREATED:20250611T045713Z
LAST-MODIFIED:20260331T213151Z
UID:10000617-1906484400-1906495200@johnnysmidtown.com
SUMMARY:Karaoke Party
DESCRIPTION:Kick off your weekend at Johnny’s with our Friday Night Karaoke Party\, hosted by B&B Music! Sing your heart out every Friday night!
URL:https://johnnysmidtown.com/event/karaoke-party-and-live-dj-5/2030-05-31/
LOCATION:Johnnys\, 3870 AZ-260\, Payson\, AZ 85541\, Payson\, AZ\, 85541\, United States
CATEGORIES:Non-Music Event,Trivin
ATTACH;FMTTYPE=image/png:https://johnnysmidtown.com/wp-content/uploads/2025/06/Karaoke-1.png
END:VEVENT
BEGIN:VEVENT
DTSTART;TZID=America/Phoenix:20300607T190000
DTEND;TZID=America/Phoenix:20300607T220000
DTSTAMP:20260419T212927
CREATED:20250611T045713Z
LAST-MODIFIED:20260331T213151Z
UID:10000618-1907089200-1907100000@johnnysmidtown.com
SUMMARY:Karaoke Party
DESCRIPTION:Kick off your weekend at Johnny’s with our Friday Night Karaoke Party\, hosted by B&B Music! Sing your heart out every Friday night!
URL:https://johnnysmidtown.com/event/karaoke-party-and-live-dj-5/2030-06-07/
LOCATION:Johnnys\, 3870 AZ-260\, Payson\, AZ 85541\, Payson\, AZ\, 85541\, United States
CATEGORIES:Non-Music Event,Trivin
ATTACH;FMTTYPE=image/png:https://johnnysmidtown.com/wp-content/uploads/2025/06/Karaoke-1.png
END:VEVENT
BEGIN:VEVENT
DTSTART;TZID=America/Phoenix:20300614T190000
DTEND;TZID=America/Phoenix:20300614T220000
DTSTAMP:20260419T212927
CREATED:20250611T045713Z
LAST-MODIFIED:20260331T213151Z
UID:10000619-1907694000-1907704800@johnnysmidtown.com
SUMMARY:Karaoke Party
DESCRIPTION:Kick off your weekend at Johnny’s with our Friday Night Karaoke Party\, hosted by B&B Music! Sing your heart out every Friday night!
URL:https://johnnysmidtown.com/event/karaoke-party-and-live-dj-5/2030-06-14/
LOCATION:Johnnys\, 3870 AZ-260\, Payson\, AZ 85541\, Payson\, AZ\, 85541\, United States
CATEGORIES:Non-Music Event,Trivin
ATTACH;FMTTYPE=image/png:https://johnnysmidtown.com/wp-content/uploads/2025/06/Karaoke-1.png
END:VEVENT
BEGIN:VEVENT
DTSTART;TZID=America/Phoenix:20300621T190000
DTEND;TZID=America/Phoenix:20300621T220000
DTSTAMP:20260419T212927
CREATED:20250611T045713Z
LAST-MODIFIED:20260331T213151Z
UID:10000620-1908298800-1908309600@johnnysmidtown.com
SUMMARY:Karaoke Party
DESCRIPTION:Kick off your weekend at Johnny’s with our Friday Night Karaoke Party\, hosted by B&B Music! Sing your heart out every Friday night!
URL:https://johnnysmidtown.com/event/karaoke-party-and-live-dj-5/2030-06-21/
LOCATION:Johnnys\, 3870 AZ-260\, Payson\, AZ 85541\, Payson\, AZ\, 85541\, United States
CATEGORIES:Non-Music Event,Trivin
ATTACH;FMTTYPE=image/png:https://johnnysmidtown.com/wp-content/uploads/2025/06/Karaoke-1.png
END:VEVENT
BEGIN:VEVENT
DTSTART;TZID=America/Phoenix:20300628T190000
DTEND;TZID=America/Phoenix:20300628T220000
DTSTAMP:20260419T212927
CREATED:20250611T045713Z
LAST-MODIFIED:20260331T213151Z
UID:10000621-1908903600-1908914400@johnnysmidtown.com
SUMMARY:Karaoke Party
DESCRIPTION:Kick off your weekend at Johnny’s with our Friday Night Karaoke Party\, hosted by B&B Music! Sing your heart out every Friday night!
URL:https://johnnysmidtown.com/event/karaoke-party-and-live-dj-5/2030-06-28/
LOCATION:Johnnys\, 3870 AZ-260\, Payson\, AZ 85541\, Payson\, AZ\, 85541\, United States
CATEGORIES:Non-Music Event,Trivin
ATTACH;FMTTYPE=image/png:https://johnnysmidtown.com/wp-content/uploads/2025/06/Karaoke-1.png
END:VEVENT
BEGIN:VEVENT
DTSTART;TZID=America/Phoenix:20300705T190000
DTEND;TZID=America/Phoenix:20300705T220000
DTSTAMP:20260419T212927
CREATED:20250611T045713Z
LAST-MODIFIED:20260331T213151Z
UID:10000622-1909508400-1909519200@johnnysmidtown.com
SUMMARY:Karaoke Party
DESCRIPTION:Kick off your weekend at Johnny’s with our Friday Night Karaoke Party\, hosted by B&B Music! Sing your heart out every Friday night!
URL:https://johnnysmidtown.com/event/karaoke-party-and-live-dj-5/2030-07-05/
LOCATION:Johnnys\, 3870 AZ-260\, Payson\, AZ 85541\, Payson\, AZ\, 85541\, United States
CATEGORIES:Non-Music Event,Trivin
ATTACH;FMTTYPE=image/png:https://johnnysmidtown.com/wp-content/uploads/2025/06/Karaoke-1.png
END:VEVENT
BEGIN:VEVENT
DTSTART;TZID=America/Phoenix:20300712T190000
DTEND;TZID=America/Phoenix:20300712T220000
DTSTAMP:20260419T212927
CREATED:20250611T045713Z
LAST-MODIFIED:20260331T213151Z
UID:10002770-1910113200-1910124000@johnnysmidtown.com
SUMMARY:Karaoke Party
DESCRIPTION:Kick off your weekend at Johnny’s with our Friday Night Karaoke Party\, hosted by B&B Music! Sing your heart out every Friday night!
URL:https://johnnysmidtown.com/event/karaoke-party-and-live-dj-5/2030-07-12/
LOCATION:Johnnys\, 3870 AZ-260\, Payson\, AZ 85541\, Payson\, AZ\, 85541\, United States
CATEGORIES:Non-Music Event,Trivin
ATTACH;FMTTYPE=image/png:https://johnnysmidtown.com/wp-content/uploads/2025/06/Karaoke-1.png
END:VEVENT
BEGIN:VEVENT
DTSTART;TZID=America/Phoenix:20300719T190000
DTEND;TZID=America/Phoenix:20300719T220000
DTSTAMP:20260419T212927
CREATED:20250611T045713Z
LAST-MODIFIED:20260331T213151Z
UID:10002771-1910718000-1910728800@johnnysmidtown.com
SUMMARY:Karaoke Party
DESCRIPTION:Kick off your weekend at Johnny’s with our Friday Night Karaoke Party\, hosted by B&B Music! Sing your heart out every Friday night!
URL:https://johnnysmidtown.com/event/karaoke-party-and-live-dj-5/2030-07-19/
LOCATION:Johnnys\, 3870 AZ-260\, Payson\, AZ 85541\, Payson\, AZ\, 85541\, United States
CATEGORIES:Non-Music Event,Trivin
ATTACH;FMTTYPE=image/png:https://johnnysmidtown.com/wp-content/uploads/2025/06/Karaoke-1.png
END:VEVENT
BEGIN:VEVENT
DTSTART;TZID=America/Phoenix:20300726T190000
DTEND;TZID=America/Phoenix:20300726T220000
DTSTAMP:20260419T212927
CREATED:20250611T045713Z
LAST-MODIFIED:20260331T213151Z
UID:10002772-1911322800-1911333600@johnnysmidtown.com
SUMMARY:Karaoke Party
DESCRIPTION:Kick off your weekend at Johnny’s with our Friday Night Karaoke Party\, hosted by B&B Music! Sing your heart out every Friday night!
URL:https://johnnysmidtown.com/event/karaoke-party-and-live-dj-5/2030-07-26/
LOCATION:Johnnys\, 3870 AZ-260\, Payson\, AZ 85541\, Payson\, AZ\, 85541\, United States
CATEGORIES:Non-Music Event,Trivin
ATTACH;FMTTYPE=image/png:https://johnnysmidtown.com/wp-content/uploads/2025/06/Karaoke-1.png
END:VEVENT
BEGIN:VEVENT
DTSTART;TZID=America/Phoenix:20300802T190000
DTEND;TZID=America/Phoenix:20300802T220000
DTSTAMP:20260419T212927
CREATED:20250611T045713Z
LAST-MODIFIED:20260331T213151Z
UID:10002773-1911927600-1911938400@johnnysmidtown.com
SUMMARY:Karaoke Party
DESCRIPTION:Kick off your weekend at Johnny’s with our Friday Night Karaoke Party\, hosted by B&B Music! Sing your heart out every Friday night!
URL:https://johnnysmidtown.com/event/karaoke-party-and-live-dj-5/2030-08-02/
LOCATION:Johnnys\, 3870 AZ-260\, Payson\, AZ 85541\, Payson\, AZ\, 85541\, United States
CATEGORIES:Non-Music Event,Trivin
ATTACH;FMTTYPE=image/png:https://johnnysmidtown.com/wp-content/uploads/2025/06/Karaoke-1.png
END:VEVENT
BEGIN:VEVENT
DTSTART;TZID=America/Phoenix:20300809T190000
DTEND;TZID=America/Phoenix:20300809T220000
DTSTAMP:20260419T212927
CREATED:20250611T045713Z
LAST-MODIFIED:20260331T213151Z
UID:10002774-1912532400-1912543200@johnnysmidtown.com
SUMMARY:Karaoke Party
DESCRIPTION:Kick off your weekend at Johnny’s with our Friday Night Karaoke Party\, hosted by B&B Music! Sing your heart out every Friday night!
URL:https://johnnysmidtown.com/event/karaoke-party-and-live-dj-5/2030-08-09/
LOCATION:Johnnys\, 3870 AZ-260\, Payson\, AZ 85541\, Payson\, AZ\, 85541\, United States
CATEGORIES:Non-Music Event,Trivin
ATTACH;FMTTYPE=image/png:https://johnnysmidtown.com/wp-content/uploads/2025/06/Karaoke-1.png
END:VEVENT
BEGIN:VEVENT
DTSTART;TZID=America/Phoenix:20300816T190000
DTEND;TZID=America/Phoenix:20300816T220000
DTSTAMP:20260419T212927
CREATED:20250611T045713Z
LAST-MODIFIED:20260331T213151Z
UID:10002775-1913137200-1913148000@johnnysmidtown.com
SUMMARY:Karaoke Party
DESCRIPTION:Kick off your weekend at Johnny’s with our Friday Night Karaoke Party\, hosted by B&B Music! Sing your heart out every Friday night!
URL:https://johnnysmidtown.com/event/karaoke-party-and-live-dj-5/2030-08-16/
LOCATION:Johnnys\, 3870 AZ-260\, Payson\, AZ 85541\, Payson\, AZ\, 85541\, United States
CATEGORIES:Non-Music Event,Trivin
ATTACH;FMTTYPE=image/png:https://johnnysmidtown.com/wp-content/uploads/2025/06/Karaoke-1.png
END:VEVENT
BEGIN:VEVENT
DTSTART;TZID=America/Phoenix:20300823T190000
DTEND;TZID=America/Phoenix:20300823T220000
DTSTAMP:20260419T212927
CREATED:20250611T045713Z
LAST-MODIFIED:20260331T213151Z
UID:10002776-1913742000-1913752800@johnnysmidtown.com
SUMMARY:Karaoke Party
DESCRIPTION:Kick off your weekend at Johnny’s with our Friday Night Karaoke Party\, hosted by B&B Music! Sing your heart out every Friday night!
URL:https://johnnysmidtown.com/event/karaoke-party-and-live-dj-5/2030-08-23/
LOCATION:Johnnys\, 3870 AZ-260\, Payson\, AZ 85541\, Payson\, AZ\, 85541\, United States
CATEGORIES:Non-Music Event,Trivin
ATTACH;FMTTYPE=image/png:https://johnnysmidtown.com/wp-content/uploads/2025/06/Karaoke-1.png
END:VEVENT
BEGIN:VEVENT
DTSTART;TZID=America/Phoenix:20300830T190000
DTEND;TZID=America/Phoenix:20300830T220000
DTSTAMP:20260419T212927
CREATED:20250611T045713Z
LAST-MODIFIED:20260331T213151Z
UID:10002777-1914346800-1914357600@johnnysmidtown.com
SUMMARY:Karaoke Party
DESCRIPTION:Kick off your weekend at Johnny’s with our Friday Night Karaoke Party\, hosted by B&B Music! Sing your heart out every Friday night!
URL:https://johnnysmidtown.com/event/karaoke-party-and-live-dj-5/2030-08-30/
LOCATION:Johnnys\, 3870 AZ-260\, Payson\, AZ 85541\, Payson\, AZ\, 85541\, United States
CATEGORIES:Non-Music Event,Trivin
ATTACH;FMTTYPE=image/png:https://johnnysmidtown.com/wp-content/uploads/2025/06/Karaoke-1.png
END:VEVENT
BEGIN:VEVENT
DTSTART;TZID=America/Phoenix:20300906T190000
DTEND;TZID=America/Phoenix:20300906T220000
DTSTAMP:20260419T212927
CREATED:20250611T045713Z
LAST-MODIFIED:20260331T213151Z
UID:10002778-1914951600-1914962400@johnnysmidtown.com
SUMMARY:Karaoke Party
DESCRIPTION:Kick off your weekend at Johnny’s with our Friday Night Karaoke Party\, hosted by B&B Music! Sing your heart out every Friday night!
URL:https://johnnysmidtown.com/event/karaoke-party-and-live-dj-5/2030-09-06/
LOCATION:Johnnys\, 3870 AZ-260\, Payson\, AZ 85541\, Payson\, AZ\, 85541\, United States
CATEGORIES:Non-Music Event,Trivin
ATTACH;FMTTYPE=image/png:https://johnnysmidtown.com/wp-content/uploads/2025/06/Karaoke-1.png
END:VEVENT
BEGIN:VEVENT
DTSTART;TZID=America/Phoenix:20300913T190000
DTEND;TZID=America/Phoenix:20300913T220000
DTSTAMP:20260419T212927
CREATED:20250611T045713Z
LAST-MODIFIED:20260331T213151Z
UID:10002779-1915556400-1915567200@johnnysmidtown.com
SUMMARY:Karaoke Party
DESCRIPTION:Kick off your weekend at Johnny’s with our Friday Night Karaoke Party\, hosted by B&B Music! Sing your heart out every Friday night!
URL:https://johnnysmidtown.com/event/karaoke-party-and-live-dj-5/2030-09-13/
LOCATION:Johnnys\, 3870 AZ-260\, Payson\, AZ 85541\, Payson\, AZ\, 85541\, United States
CATEGORIES:Non-Music Event,Trivin
ATTACH;FMTTYPE=image/png:https://johnnysmidtown.com/wp-content/uploads/2025/06/Karaoke-1.png
END:VEVENT
BEGIN:VEVENT
DTSTART;TZID=America/Phoenix:20300920T190000
DTEND;TZID=America/Phoenix:20300920T220000
DTSTAMP:20260419T212927
CREATED:20250611T045713Z
LAST-MODIFIED:20260331T213151Z
UID:10002780-1916161200-1916172000@johnnysmidtown.com
SUMMARY:Karaoke Party
DESCRIPTION:Kick off your weekend at Johnny’s with our Friday Night Karaoke Party\, hosted by B&B Music! Sing your heart out every Friday night!
URL:https://johnnysmidtown.com/event/karaoke-party-and-live-dj-5/2030-09-20/
LOCATION:Johnnys\, 3870 AZ-260\, Payson\, AZ 85541\, Payson\, AZ\, 85541\, United States
CATEGORIES:Non-Music Event,Trivin
ATTACH;FMTTYPE=image/png:https://johnnysmidtown.com/wp-content/uploads/2025/06/Karaoke-1.png
END:VEVENT
BEGIN:VEVENT
DTSTART;TZID=America/Phoenix:20300927T190000
DTEND;TZID=America/Phoenix:20300927T220000
DTSTAMP:20260419T212927
CREATED:20250611T045713Z
LAST-MODIFIED:20260331T213151Z
UID:10002781-1916766000-1916776800@johnnysmidtown.com
SUMMARY:Karaoke Party
DESCRIPTION:Kick off your weekend at Johnny’s with our Friday Night Karaoke Party\, hosted by B&B Music! Sing your heart out every Friday night!
URL:https://johnnysmidtown.com/event/karaoke-party-and-live-dj-5/2030-09-27/
LOCATION:Johnnys\, 3870 AZ-260\, Payson\, AZ 85541\, Payson\, AZ\, 85541\, United States
CATEGORIES:Non-Music Event,Trivin
ATTACH;FMTTYPE=image/png:https://johnnysmidtown.com/wp-content/uploads/2025/06/Karaoke-1.png
END:VEVENT
BEGIN:VEVENT
DTSTART;TZID=America/Phoenix:20301004T190000
DTEND;TZID=America/Phoenix:20301004T220000
DTSTAMP:20260419T212927
CREATED:20250611T045713Z
LAST-MODIFIED:20260331T213151Z
UID:10002782-1917370800-1917381600@johnnysmidtown.com
SUMMARY:Karaoke Party
DESCRIPTION:Kick off your weekend at Johnny’s with our Friday Night Karaoke Party\, hosted by B&B Music! Sing your heart out every Friday night!
URL:https://johnnysmidtown.com/event/karaoke-party-and-live-dj-5/2030-10-04/
LOCATION:Johnnys\, 3870 AZ-260\, Payson\, AZ 85541\, Payson\, AZ\, 85541\, United States
CATEGORIES:Non-Music Event,Trivin
ATTACH;FMTTYPE=image/png:https://johnnysmidtown.com/wp-content/uploads/2025/06/Karaoke-1.png
END:VEVENT
BEGIN:VEVENT
DTSTART;TZID=America/Phoenix:20301011T190000
DTEND;TZID=America/Phoenix:20301011T220000
DTSTAMP:20260419T212927
CREATED:20250611T045713Z
LAST-MODIFIED:20260331T213151Z
UID:10002993-1917975600-1917986400@johnnysmidtown.com
SUMMARY:Karaoke Party
DESCRIPTION:Kick off your weekend at Johnny’s with our Friday Night Karaoke Party\, hosted by B&B Music! Sing your heart out every Friday night!
URL:https://johnnysmidtown.com/event/karaoke-party-and-live-dj-5/2030-10-11/
LOCATION:Johnnys\, 3870 AZ-260\, Payson\, AZ 85541\, Payson\, AZ\, 85541\, United States
CATEGORIES:Non-Music Event,Trivin
ATTACH;FMTTYPE=image/png:https://johnnysmidtown.com/wp-content/uploads/2025/06/Karaoke-1.png
END:VEVENT
END:VCALENDAR