BEGIN:VCALENDAR
VERSION:2.0
PRODID:-//Midtown Yard Restaurant - Star Valley, Payson &amp; Rim Country Arizona - ECPv6.13.2.1//NONSGML v1.0//EN
CALSCALE:GREGORIAN
METHOD:PUBLISH
X-WR-CALNAME:Midtown Yard Restaurant - Star Valley, Payson &amp; Rim Country Arizona
X-ORIGINAL-URL:https://johnnysmidtown.com
X-WR-CALDESC:Events for Midtown Yard Restaurant - Star Valley, Payson &amp; Rim Country Arizona
REFRESH-INTERVAL;VALUE=DURATION:PT1H
X-Robots-Tag:noindex
X-PUBLISHED-TTL:PT1H
BEGIN:VTIMEZONE
TZID:America/Phoenix
BEGIN:STANDARD
TZOFFSETFROM:-0700
TZOFFSETTO:-0700
TZNAME:MST
DTSTART:20280101T000000
END:STANDARD
END:VTIMEZONE
BEGIN:VEVENT
DTSTART;TZID=America/Phoenix:20280519T190000
DTEND;TZID=America/Phoenix:20280519T220000
DTSTAMP:20260419T100311
CREATED:20250611T045713Z
LAST-MODIFIED:20260331T213151Z
UID:10000511-1842375600-1842386400@johnnysmidtown.com
SUMMARY:Karaoke Party
DESCRIPTION:Kick off your weekend at Johnny’s with our Friday Night Karaoke Party\, hosted by B&B Music! Sing your heart out every Friday night!
URL:https://johnnysmidtown.com/event/karaoke-party-and-live-dj-5/2028-05-19/
LOCATION:Johnnys\, 3870 AZ-260\, Payson\, AZ 85541\, Payson\, AZ\, 85541\, United States
CATEGORIES:Non-Music Event,Trivin
ATTACH;FMTTYPE=image/png:https://johnnysmidtown.com/wp-content/uploads/2025/06/Karaoke-1.png
END:VEVENT
BEGIN:VEVENT
DTSTART;TZID=America/Phoenix:20280526T190000
DTEND;TZID=America/Phoenix:20280526T220000
DTSTAMP:20260419T100311
CREATED:20250611T045713Z
LAST-MODIFIED:20260331T213151Z
UID:10000512-1842980400-1842991200@johnnysmidtown.com
SUMMARY:Karaoke Party
DESCRIPTION:Kick off your weekend at Johnny’s with our Friday Night Karaoke Party\, hosted by B&B Music! Sing your heart out every Friday night!
URL:https://johnnysmidtown.com/event/karaoke-party-and-live-dj-5/2028-05-26/
LOCATION:Johnnys\, 3870 AZ-260\, Payson\, AZ 85541\, Payson\, AZ\, 85541\, United States
CATEGORIES:Non-Music Event,Trivin
ATTACH;FMTTYPE=image/png:https://johnnysmidtown.com/wp-content/uploads/2025/06/Karaoke-1.png
END:VEVENT
BEGIN:VEVENT
DTSTART;TZID=America/Phoenix:20280602T190000
DTEND;TZID=America/Phoenix:20280602T220000
DTSTAMP:20260419T100311
CREATED:20250611T045713Z
LAST-MODIFIED:20260331T213151Z
UID:10000513-1843585200-1843596000@johnnysmidtown.com
SUMMARY:Karaoke Party
DESCRIPTION:Kick off your weekend at Johnny’s with our Friday Night Karaoke Party\, hosted by B&B Music! Sing your heart out every Friday night!
URL:https://johnnysmidtown.com/event/karaoke-party-and-live-dj-5/2028-06-02/
LOCATION:Johnnys\, 3870 AZ-260\, Payson\, AZ 85541\, Payson\, AZ\, 85541\, United States
CATEGORIES:Non-Music Event,Trivin
ATTACH;FMTTYPE=image/png:https://johnnysmidtown.com/wp-content/uploads/2025/06/Karaoke-1.png
END:VEVENT
BEGIN:VEVENT
DTSTART;TZID=America/Phoenix:20280609T190000
DTEND;TZID=America/Phoenix:20280609T220000
DTSTAMP:20260419T100311
CREATED:20250611T045713Z
LAST-MODIFIED:20260331T213151Z
UID:10000514-1844190000-1844200800@johnnysmidtown.com
SUMMARY:Karaoke Party
DESCRIPTION:Kick off your weekend at Johnny’s with our Friday Night Karaoke Party\, hosted by B&B Music! Sing your heart out every Friday night!
URL:https://johnnysmidtown.com/event/karaoke-party-and-live-dj-5/2028-06-09/
LOCATION:Johnnys\, 3870 AZ-260\, Payson\, AZ 85541\, Payson\, AZ\, 85541\, United States
CATEGORIES:Non-Music Event,Trivin
ATTACH;FMTTYPE=image/png:https://johnnysmidtown.com/wp-content/uploads/2025/06/Karaoke-1.png
END:VEVENT
BEGIN:VEVENT
DTSTART;TZID=America/Phoenix:20280616T190000
DTEND;TZID=America/Phoenix:20280616T220000
DTSTAMP:20260419T100311
CREATED:20250611T045713Z
LAST-MODIFIED:20260331T213151Z
UID:10000515-1844794800-1844805600@johnnysmidtown.com
SUMMARY:Karaoke Party
DESCRIPTION:Kick off your weekend at Johnny’s with our Friday Night Karaoke Party\, hosted by B&B Music! Sing your heart out every Friday night!
URL:https://johnnysmidtown.com/event/karaoke-party-and-live-dj-5/2028-06-16/
LOCATION:Johnnys\, 3870 AZ-260\, Payson\, AZ 85541\, Payson\, AZ\, 85541\, United States
CATEGORIES:Non-Music Event,Trivin
ATTACH;FMTTYPE=image/png:https://johnnysmidtown.com/wp-content/uploads/2025/06/Karaoke-1.png
END:VEVENT
BEGIN:VEVENT
DTSTART;TZID=America/Phoenix:20280623T190000
DTEND;TZID=America/Phoenix:20280623T220000
DTSTAMP:20260419T100311
CREATED:20250611T045713Z
LAST-MODIFIED:20260331T213151Z
UID:10000516-1845399600-1845410400@johnnysmidtown.com
SUMMARY:Karaoke Party
DESCRIPTION:Kick off your weekend at Johnny’s with our Friday Night Karaoke Party\, hosted by B&B Music! Sing your heart out every Friday night!
URL:https://johnnysmidtown.com/event/karaoke-party-and-live-dj-5/2028-06-23/
LOCATION:Johnnys\, 3870 AZ-260\, Payson\, AZ 85541\, Payson\, AZ\, 85541\, United States
CATEGORIES:Non-Music Event,Trivin
ATTACH;FMTTYPE=image/png:https://johnnysmidtown.com/wp-content/uploads/2025/06/Karaoke-1.png
END:VEVENT
BEGIN:VEVENT
DTSTART;TZID=America/Phoenix:20280630T190000
DTEND;TZID=America/Phoenix:20280630T220000
DTSTAMP:20260419T100311
CREATED:20250611T045713Z
LAST-MODIFIED:20260331T213151Z
UID:10000517-1846004400-1846015200@johnnysmidtown.com
SUMMARY:Karaoke Party
DESCRIPTION:Kick off your weekend at Johnny’s with our Friday Night Karaoke Party\, hosted by B&B Music! Sing your heart out every Friday night!
URL:https://johnnysmidtown.com/event/karaoke-party-and-live-dj-5/2028-06-30/
LOCATION:Johnnys\, 3870 AZ-260\, Payson\, AZ 85541\, Payson\, AZ\, 85541\, United States
CATEGORIES:Non-Music Event,Trivin
ATTACH;FMTTYPE=image/png:https://johnnysmidtown.com/wp-content/uploads/2025/06/Karaoke-1.png
END:VEVENT
BEGIN:VEVENT
DTSTART;TZID=America/Phoenix:20280707T190000
DTEND;TZID=America/Phoenix:20280707T220000
DTSTAMP:20260419T100311
CREATED:20250611T045713Z
LAST-MODIFIED:20260331T213151Z
UID:10000518-1846609200-1846620000@johnnysmidtown.com
SUMMARY:Karaoke Party
DESCRIPTION:Kick off your weekend at Johnny’s with our Friday Night Karaoke Party\, hosted by B&B Music! Sing your heart out every Friday night!
URL:https://johnnysmidtown.com/event/karaoke-party-and-live-dj-5/2028-07-07/
LOCATION:Johnnys\, 3870 AZ-260\, Payson\, AZ 85541\, Payson\, AZ\, 85541\, United States
CATEGORIES:Non-Music Event,Trivin
ATTACH;FMTTYPE=image/png:https://johnnysmidtown.com/wp-content/uploads/2025/06/Karaoke-1.png
END:VEVENT
BEGIN:VEVENT
DTSTART;TZID=America/Phoenix:20280714T190000
DTEND;TZID=America/Phoenix:20280714T220000
DTSTAMP:20260419T100311
CREATED:20250611T045713Z
LAST-MODIFIED:20260331T213151Z
UID:10000519-1847214000-1847224800@johnnysmidtown.com
SUMMARY:Karaoke Party
DESCRIPTION:Kick off your weekend at Johnny’s with our Friday Night Karaoke Party\, hosted by B&B Music! Sing your heart out every Friday night!
URL:https://johnnysmidtown.com/event/karaoke-party-and-live-dj-5/2028-07-14/
LOCATION:Johnnys\, 3870 AZ-260\, Payson\, AZ 85541\, Payson\, AZ\, 85541\, United States
CATEGORIES:Non-Music Event,Trivin
ATTACH;FMTTYPE=image/png:https://johnnysmidtown.com/wp-content/uploads/2025/06/Karaoke-1.png
END:VEVENT
BEGIN:VEVENT
DTSTART;TZID=America/Phoenix:20280721T190000
DTEND;TZID=America/Phoenix:20280721T220000
DTSTAMP:20260419T100311
CREATED:20250611T045713Z
LAST-MODIFIED:20260331T213151Z
UID:10000520-1847818800-1847829600@johnnysmidtown.com
SUMMARY:Karaoke Party
DESCRIPTION:Kick off your weekend at Johnny’s with our Friday Night Karaoke Party\, hosted by B&B Music! Sing your heart out every Friday night!
URL:https://johnnysmidtown.com/event/karaoke-party-and-live-dj-5/2028-07-21/
LOCATION:Johnnys\, 3870 AZ-260\, Payson\, AZ 85541\, Payson\, AZ\, 85541\, United States
CATEGORIES:Non-Music Event,Trivin
ATTACH;FMTTYPE=image/png:https://johnnysmidtown.com/wp-content/uploads/2025/06/Karaoke-1.png
END:VEVENT
BEGIN:VEVENT
DTSTART;TZID=America/Phoenix:20280728T190000
DTEND;TZID=America/Phoenix:20280728T220000
DTSTAMP:20260419T100311
CREATED:20250611T045713Z
LAST-MODIFIED:20260331T213151Z
UID:10000521-1848423600-1848434400@johnnysmidtown.com
SUMMARY:Karaoke Party
DESCRIPTION:Kick off your weekend at Johnny’s with our Friday Night Karaoke Party\, hosted by B&B Music! Sing your heart out every Friday night!
URL:https://johnnysmidtown.com/event/karaoke-party-and-live-dj-5/2028-07-28/
LOCATION:Johnnys\, 3870 AZ-260\, Payson\, AZ 85541\, Payson\, AZ\, 85541\, United States
CATEGORIES:Non-Music Event,Trivin
ATTACH;FMTTYPE=image/png:https://johnnysmidtown.com/wp-content/uploads/2025/06/Karaoke-1.png
END:VEVENT
BEGIN:VEVENT
DTSTART;TZID=America/Phoenix:20280804T190000
DTEND;TZID=America/Phoenix:20280804T220000
DTSTAMP:20260419T100311
CREATED:20250611T045713Z
LAST-MODIFIED:20260331T213151Z
UID:10000522-1849028400-1849039200@johnnysmidtown.com
SUMMARY:Karaoke Party
DESCRIPTION:Kick off your weekend at Johnny’s with our Friday Night Karaoke Party\, hosted by B&B Music! Sing your heart out every Friday night!
URL:https://johnnysmidtown.com/event/karaoke-party-and-live-dj-5/2028-08-04/
LOCATION:Johnnys\, 3870 AZ-260\, Payson\, AZ 85541\, Payson\, AZ\, 85541\, United States
CATEGORIES:Non-Music Event,Trivin
ATTACH;FMTTYPE=image/png:https://johnnysmidtown.com/wp-content/uploads/2025/06/Karaoke-1.png
END:VEVENT
BEGIN:VEVENT
DTSTART;TZID=America/Phoenix:20280811T190000
DTEND;TZID=America/Phoenix:20280811T220000
DTSTAMP:20260419T100311
CREATED:20250611T045713Z
LAST-MODIFIED:20260331T213151Z
UID:10000523-1849633200-1849644000@johnnysmidtown.com
SUMMARY:Karaoke Party
DESCRIPTION:Kick off your weekend at Johnny’s with our Friday Night Karaoke Party\, hosted by B&B Music! Sing your heart out every Friday night!
URL:https://johnnysmidtown.com/event/karaoke-party-and-live-dj-5/2028-08-11/
LOCATION:Johnnys\, 3870 AZ-260\, Payson\, AZ 85541\, Payson\, AZ\, 85541\, United States
CATEGORIES:Non-Music Event,Trivin
ATTACH;FMTTYPE=image/png:https://johnnysmidtown.com/wp-content/uploads/2025/06/Karaoke-1.png
END:VEVENT
BEGIN:VEVENT
DTSTART;TZID=America/Phoenix:20280818T190000
DTEND;TZID=America/Phoenix:20280818T220000
DTSTAMP:20260419T100311
CREATED:20250611T045713Z
LAST-MODIFIED:20260331T213151Z
UID:10000524-1850238000-1850248800@johnnysmidtown.com
SUMMARY:Karaoke Party
DESCRIPTION:Kick off your weekend at Johnny’s with our Friday Night Karaoke Party\, hosted by B&B Music! Sing your heart out every Friday night!
URL:https://johnnysmidtown.com/event/karaoke-party-and-live-dj-5/2028-08-18/
LOCATION:Johnnys\, 3870 AZ-260\, Payson\, AZ 85541\, Payson\, AZ\, 85541\, United States
CATEGORIES:Non-Music Event,Trivin
ATTACH;FMTTYPE=image/png:https://johnnysmidtown.com/wp-content/uploads/2025/06/Karaoke-1.png
END:VEVENT
BEGIN:VEVENT
DTSTART;TZID=America/Phoenix:20280825T190000
DTEND;TZID=America/Phoenix:20280825T220000
DTSTAMP:20260419T100311
CREATED:20250611T045713Z
LAST-MODIFIED:20260331T213151Z
UID:10000525-1850842800-1850853600@johnnysmidtown.com
SUMMARY:Karaoke Party
DESCRIPTION:Kick off your weekend at Johnny’s with our Friday Night Karaoke Party\, hosted by B&B Music! Sing your heart out every Friday night!
URL:https://johnnysmidtown.com/event/karaoke-party-and-live-dj-5/2028-08-25/
LOCATION:Johnnys\, 3870 AZ-260\, Payson\, AZ 85541\, Payson\, AZ\, 85541\, United States
CATEGORIES:Non-Music Event,Trivin
ATTACH;FMTTYPE=image/png:https://johnnysmidtown.com/wp-content/uploads/2025/06/Karaoke-1.png
END:VEVENT
BEGIN:VEVENT
DTSTART;TZID=America/Phoenix:20280901T190000
DTEND;TZID=America/Phoenix:20280901T220000
DTSTAMP:20260419T100311
CREATED:20250611T045713Z
LAST-MODIFIED:20260331T213151Z
UID:10000526-1851447600-1851458400@johnnysmidtown.com
SUMMARY:Karaoke Party
DESCRIPTION:Kick off your weekend at Johnny’s with our Friday Night Karaoke Party\, hosted by B&B Music! Sing your heart out every Friday night!
URL:https://johnnysmidtown.com/event/karaoke-party-and-live-dj-5/2028-09-01/
LOCATION:Johnnys\, 3870 AZ-260\, Payson\, AZ 85541\, Payson\, AZ\, 85541\, United States
CATEGORIES:Non-Music Event,Trivin
ATTACH;FMTTYPE=image/png:https://johnnysmidtown.com/wp-content/uploads/2025/06/Karaoke-1.png
END:VEVENT
BEGIN:VEVENT
DTSTART;TZID=America/Phoenix:20280908T190000
DTEND;TZID=America/Phoenix:20280908T220000
DTSTAMP:20260419T100311
CREATED:20250611T045713Z
LAST-MODIFIED:20260331T213151Z
UID:10000527-1852052400-1852063200@johnnysmidtown.com
SUMMARY:Karaoke Party
DESCRIPTION:Kick off your weekend at Johnny’s with our Friday Night Karaoke Party\, hosted by B&B Music! Sing your heart out every Friday night!
URL:https://johnnysmidtown.com/event/karaoke-party-and-live-dj-5/2028-09-08/
LOCATION:Johnnys\, 3870 AZ-260\, Payson\, AZ 85541\, Payson\, AZ\, 85541\, United States
CATEGORIES:Non-Music Event,Trivin
ATTACH;FMTTYPE=image/png:https://johnnysmidtown.com/wp-content/uploads/2025/06/Karaoke-1.png
END:VEVENT
BEGIN:VEVENT
DTSTART;TZID=America/Phoenix:20280915T190000
DTEND;TZID=America/Phoenix:20280915T220000
DTSTAMP:20260419T100311
CREATED:20250611T045713Z
LAST-MODIFIED:20260331T213151Z
UID:10000528-1852657200-1852668000@johnnysmidtown.com
SUMMARY:Karaoke Party
DESCRIPTION:Kick off your weekend at Johnny’s with our Friday Night Karaoke Party\, hosted by B&B Music! Sing your heart out every Friday night!
URL:https://johnnysmidtown.com/event/karaoke-party-and-live-dj-5/2028-09-15/
LOCATION:Johnnys\, 3870 AZ-260\, Payson\, AZ 85541\, Payson\, AZ\, 85541\, United States
CATEGORIES:Non-Music Event,Trivin
ATTACH;FMTTYPE=image/png:https://johnnysmidtown.com/wp-content/uploads/2025/06/Karaoke-1.png
END:VEVENT
BEGIN:VEVENT
DTSTART;TZID=America/Phoenix:20280922T190000
DTEND;TZID=America/Phoenix:20280922T220000
DTSTAMP:20260419T100311
CREATED:20250611T045713Z
LAST-MODIFIED:20260331T213151Z
UID:10000529-1853262000-1853272800@johnnysmidtown.com
SUMMARY:Karaoke Party
DESCRIPTION:Kick off your weekend at Johnny’s with our Friday Night Karaoke Party\, hosted by B&B Music! Sing your heart out every Friday night!
URL:https://johnnysmidtown.com/event/karaoke-party-and-live-dj-5/2028-09-22/
LOCATION:Johnnys\, 3870 AZ-260\, Payson\, AZ 85541\, Payson\, AZ\, 85541\, United States
CATEGORIES:Non-Music Event,Trivin
ATTACH;FMTTYPE=image/png:https://johnnysmidtown.com/wp-content/uploads/2025/06/Karaoke-1.png
END:VEVENT
BEGIN:VEVENT
DTSTART;TZID=America/Phoenix:20280929T190000
DTEND;TZID=America/Phoenix:20280929T220000
DTSTAMP:20260419T100311
CREATED:20250611T045713Z
LAST-MODIFIED:20260331T213151Z
UID:10000530-1853866800-1853877600@johnnysmidtown.com
SUMMARY:Karaoke Party
DESCRIPTION:Kick off your weekend at Johnny’s with our Friday Night Karaoke Party\, hosted by B&B Music! Sing your heart out every Friday night!
URL:https://johnnysmidtown.com/event/karaoke-party-and-live-dj-5/2028-09-29/
LOCATION:Johnnys\, 3870 AZ-260\, Payson\, AZ 85541\, Payson\, AZ\, 85541\, United States
CATEGORIES:Non-Music Event,Trivin
ATTACH;FMTTYPE=image/png:https://johnnysmidtown.com/wp-content/uploads/2025/06/Karaoke-1.png
END:VEVENT
BEGIN:VEVENT
DTSTART;TZID=America/Phoenix:20281006T190000
DTEND;TZID=America/Phoenix:20281006T220000
DTSTAMP:20260419T100311
CREATED:20250611T045713Z
LAST-MODIFIED:20260331T213151Z
UID:10000531-1854471600-1854482400@johnnysmidtown.com
SUMMARY:Karaoke Party
DESCRIPTION:Kick off your weekend at Johnny’s with our Friday Night Karaoke Party\, hosted by B&B Music! Sing your heart out every Friday night!
URL:https://johnnysmidtown.com/event/karaoke-party-and-live-dj-5/2028-10-06/
LOCATION:Johnnys\, 3870 AZ-260\, Payson\, AZ 85541\, Payson\, AZ\, 85541\, United States
CATEGORIES:Non-Music Event,Trivin
ATTACH;FMTTYPE=image/png:https://johnnysmidtown.com/wp-content/uploads/2025/06/Karaoke-1.png
END:VEVENT
BEGIN:VEVENT
DTSTART;TZID=America/Phoenix:20281013T190000
DTEND;TZID=America/Phoenix:20281013T220000
DTSTAMP:20260419T100311
CREATED:20250611T045713Z
LAST-MODIFIED:20260331T213151Z
UID:10000532-1855076400-1855087200@johnnysmidtown.com
SUMMARY:Karaoke Party
DESCRIPTION:Kick off your weekend at Johnny’s with our Friday Night Karaoke Party\, hosted by B&B Music! Sing your heart out every Friday night!
URL:https://johnnysmidtown.com/event/karaoke-party-and-live-dj-5/2028-10-13/
LOCATION:Johnnys\, 3870 AZ-260\, Payson\, AZ 85541\, Payson\, AZ\, 85541\, United States
CATEGORIES:Non-Music Event,Trivin
ATTACH;FMTTYPE=image/png:https://johnnysmidtown.com/wp-content/uploads/2025/06/Karaoke-1.png
END:VEVENT
BEGIN:VEVENT
DTSTART;TZID=America/Phoenix:20281020T190000
DTEND;TZID=America/Phoenix:20281020T220000
DTSTAMP:20260419T100311
CREATED:20250611T045713Z
LAST-MODIFIED:20260331T213151Z
UID:10000533-1855681200-1855692000@johnnysmidtown.com
SUMMARY:Karaoke Party
DESCRIPTION:Kick off your weekend at Johnny’s with our Friday Night Karaoke Party\, hosted by B&B Music! Sing your heart out every Friday night!
URL:https://johnnysmidtown.com/event/karaoke-party-and-live-dj-5/2028-10-20/
LOCATION:Johnnys\, 3870 AZ-260\, Payson\, AZ 85541\, Payson\, AZ\, 85541\, United States
CATEGORIES:Non-Music Event,Trivin
ATTACH;FMTTYPE=image/png:https://johnnysmidtown.com/wp-content/uploads/2025/06/Karaoke-1.png
END:VEVENT
BEGIN:VEVENT
DTSTART;TZID=America/Phoenix:20281027T190000
DTEND;TZID=America/Phoenix:20281027T220000
DTSTAMP:20260419T100311
CREATED:20250611T045713Z
LAST-MODIFIED:20260331T213151Z
UID:10000534-1856286000-1856296800@johnnysmidtown.com
SUMMARY:Karaoke Party
DESCRIPTION:Kick off your weekend at Johnny’s with our Friday Night Karaoke Party\, hosted by B&B Music! Sing your heart out every Friday night!
URL:https://johnnysmidtown.com/event/karaoke-party-and-live-dj-5/2028-10-27/
LOCATION:Johnnys\, 3870 AZ-260\, Payson\, AZ 85541\, Payson\, AZ\, 85541\, United States
CATEGORIES:Non-Music Event,Trivin
ATTACH;FMTTYPE=image/png:https://johnnysmidtown.com/wp-content/uploads/2025/06/Karaoke-1.png
END:VEVENT
BEGIN:VEVENT
DTSTART;TZID=America/Phoenix:20281103T190000
DTEND;TZID=America/Phoenix:20281103T220000
DTSTAMP:20260419T100311
CREATED:20250611T045713Z
LAST-MODIFIED:20260331T213151Z
UID:10000535-1856890800-1856901600@johnnysmidtown.com
SUMMARY:Karaoke Party
DESCRIPTION:Kick off your weekend at Johnny’s with our Friday Night Karaoke Party\, hosted by B&B Music! Sing your heart out every Friday night!
URL:https://johnnysmidtown.com/event/karaoke-party-and-live-dj-5/2028-11-03/
LOCATION:Johnnys\, 3870 AZ-260\, Payson\, AZ 85541\, Payson\, AZ\, 85541\, United States
CATEGORIES:Non-Music Event,Trivin
ATTACH;FMTTYPE=image/png:https://johnnysmidtown.com/wp-content/uploads/2025/06/Karaoke-1.png
END:VEVENT
BEGIN:VEVENT
DTSTART;TZID=America/Phoenix:20281110T190000
DTEND;TZID=America/Phoenix:20281110T220000
DTSTAMP:20260419T100311
CREATED:20250611T045713Z
LAST-MODIFIED:20260331T213151Z
UID:10000536-1857495600-1857506400@johnnysmidtown.com
SUMMARY:Karaoke Party
DESCRIPTION:Kick off your weekend at Johnny’s with our Friday Night Karaoke Party\, hosted by B&B Music! Sing your heart out every Friday night!
URL:https://johnnysmidtown.com/event/karaoke-party-and-live-dj-5/2028-11-10/
LOCATION:Johnnys\, 3870 AZ-260\, Payson\, AZ 85541\, Payson\, AZ\, 85541\, United States
CATEGORIES:Non-Music Event,Trivin
ATTACH;FMTTYPE=image/png:https://johnnysmidtown.com/wp-content/uploads/2025/06/Karaoke-1.png
END:VEVENT
BEGIN:VEVENT
DTSTART;TZID=America/Phoenix:20281117T190000
DTEND;TZID=America/Phoenix:20281117T220000
DTSTAMP:20260419T100311
CREATED:20250611T045713Z
LAST-MODIFIED:20260331T213151Z
UID:10000537-1858100400-1858111200@johnnysmidtown.com
SUMMARY:Karaoke Party
DESCRIPTION:Kick off your weekend at Johnny’s with our Friday Night Karaoke Party\, hosted by B&B Music! Sing your heart out every Friday night!
URL:https://johnnysmidtown.com/event/karaoke-party-and-live-dj-5/2028-11-17/
LOCATION:Johnnys\, 3870 AZ-260\, Payson\, AZ 85541\, Payson\, AZ\, 85541\, United States
CATEGORIES:Non-Music Event,Trivin
ATTACH;FMTTYPE=image/png:https://johnnysmidtown.com/wp-content/uploads/2025/06/Karaoke-1.png
END:VEVENT
BEGIN:VEVENT
DTSTART;TZID=America/Phoenix:20281124T190000
DTEND;TZID=America/Phoenix:20281124T220000
DTSTAMP:20260419T100311
CREATED:20250611T045713Z
LAST-MODIFIED:20260331T213151Z
UID:10000538-1858705200-1858716000@johnnysmidtown.com
SUMMARY:Karaoke Party
DESCRIPTION:Kick off your weekend at Johnny’s with our Friday Night Karaoke Party\, hosted by B&B Music! Sing your heart out every Friday night!
URL:https://johnnysmidtown.com/event/karaoke-party-and-live-dj-5/2028-11-24/
LOCATION:Johnnys\, 3870 AZ-260\, Payson\, AZ 85541\, Payson\, AZ\, 85541\, United States
CATEGORIES:Non-Music Event,Trivin
ATTACH;FMTTYPE=image/png:https://johnnysmidtown.com/wp-content/uploads/2025/06/Karaoke-1.png
END:VEVENT
BEGIN:VEVENT
DTSTART;TZID=America/Phoenix:20281201T190000
DTEND;TZID=America/Phoenix:20281201T220000
DTSTAMP:20260419T100311
CREATED:20250611T045713Z
LAST-MODIFIED:20260331T213151Z
UID:10000539-1859310000-1859320800@johnnysmidtown.com
SUMMARY:Karaoke Party
DESCRIPTION:Kick off your weekend at Johnny’s with our Friday Night Karaoke Party\, hosted by B&B Music! Sing your heart out every Friday night!
URL:https://johnnysmidtown.com/event/karaoke-party-and-live-dj-5/2028-12-01/
LOCATION:Johnnys\, 3870 AZ-260\, Payson\, AZ 85541\, Payson\, AZ\, 85541\, United States
CATEGORIES:Non-Music Event,Trivin
ATTACH;FMTTYPE=image/png:https://johnnysmidtown.com/wp-content/uploads/2025/06/Karaoke-1.png
END:VEVENT
BEGIN:VEVENT
DTSTART;TZID=America/Phoenix:20281208T190000
DTEND;TZID=America/Phoenix:20281208T220000
DTSTAMP:20260419T100311
CREATED:20250611T045713Z
LAST-MODIFIED:20260331T213151Z
UID:10000540-1859914800-1859925600@johnnysmidtown.com
SUMMARY:Karaoke Party
DESCRIPTION:Kick off your weekend at Johnny’s with our Friday Night Karaoke Party\, hosted by B&B Music! Sing your heart out every Friday night!
URL:https://johnnysmidtown.com/event/karaoke-party-and-live-dj-5/2028-12-08/
LOCATION:Johnnys\, 3870 AZ-260\, Payson\, AZ 85541\, Payson\, AZ\, 85541\, United States
CATEGORIES:Non-Music Event,Trivin
ATTACH;FMTTYPE=image/png:https://johnnysmidtown.com/wp-content/uploads/2025/06/Karaoke-1.png
END:VEVENT
END:VCALENDAR